BEGIN:VCALENDAR
PRODID:NingEventWidget-v1
VERSION:2.0
METHOD:PUBLISH
BEGIN:VTIMEZONE
TZID:America/Cancun
X-LIC-LOCATION:America/Cancun
BEGIN:DAYLIGHT
TZOFFSETFROM:-0600
TZOFFSETTO:-0500
TZNAME:CDT
DTSTART:19700405T020000
RRULE:FREQ=YEARLY;BYMONTH=4;BYDAY=1SU
END:DAYLIGHT
BEGIN:STANDARD
TZOFFSETFROM:-0500
TZOFFSETTO:-0600
TZNAME:CST
DTSTART:19701025T020000
RRULE:FREQ=YEARLY;BYMONTH=10;BYDAY=-1SU
END:STANDARD
END:VTIMEZONE
BEGIN:VEVENT
UID:2636007:Event:37988
DTSTAMP:20260424T000611Z
SUMMARY:Grassroots Revolution
DESCRIPTION:Please join me on Tuesday March 31st at 6 pm eastern time 
 for my grassroots special where my guests will be nationwide grassroot
 s organizer Kellen Giuda who just launched www.parcbench.com and Steve
 , the CEO of www.freedomsfirst.org. Kellen organized the February 28th
  NYC Tea Party (the one I spoke at) which got a tremendous turnout on 
 such short notice and is organizing another large one for April 15. Ke
 llen is deeply connected with FOX News contributors and was featured o
 n FOX News when he started planning his first tea party. In addition h
 e has worked closely on reforming a culture that has disenfranchised t
 he conservatives of America. Meanwhile, Steve has been appearing on va
 rious radio/news shows to spread his message and his mission.\n\nThe s
 how call in number will be (347) 324-3826 and the site is blogtalkradi
 o.com/takebackAmerica.\n\nMy last show with the Special Coordinator fo
 r Grassroots Efforts at the Fair Tax Organization is now up live on my
  podcast at takingbackAmerica.podomatic.com.\n\nFor more information v
 isit http://www.fairtaxnation.com/events/grassroots-revolution
DTSTART;TZID=America/Cancun:20090331T180000
DTEND;TZID=America/Cancun:20090331T193000
CATEGORIES:radiocast
LOCATION:blogtalkradio.com/takebackAmerica
WEBSITE:http://blogtalkradio.com/takebackAmerica
URL:http://blogtalkradio.com/takebackAmerica
CONTACT:(347) 324-3826
ORGANIZER;CN=TheEarthisNotFlat:http://www.fairtaxnation.com/profile/Th
 eEarthisNotFlat
ATTACH;FMTTYPE="image/jpeg":http://storage.ning.com/topology/rest/1.0/
 file/get/1080579250?profile=original
ATTENDEE;ROLE=REQ-PARTICIPANT;PARTSTAT=ACCEPTED;RSVP=TRUE;CN=TheEarthi
 sNotFlat:http://www.fairtaxnation.com/profile/TheEarthisNotFlat
END:VEVENT
END:VCALENDAR
