BEGIN:VCALENDAR
PRODID:NingEventWidget-v1
VERSION:2.0
METHOD:PUBLISH
BEGIN:VTIMEZONE
TZID:America/Cancun
X-LIC-LOCATION:America/Cancun
BEGIN:DAYLIGHT
TZOFFSETFROM:-0600
TZOFFSETTO:-0500
TZNAME:CDT
DTSTART:19700405T020000
RRULE:FREQ=YEARLY;BYMONTH=4;BYDAY=1SU
END:DAYLIGHT
BEGIN:STANDARD
TZOFFSETFROM:-0500
TZOFFSETTO:-0600
TZNAME:CST
DTSTART:19701025T020000
RRULE:FREQ=YEARLY;BYMONTH=10;BYDAY=-1SU
END:STANDARD
END:VTIMEZONE
BEGIN:VEVENT
UID:2636007:Event:36366
DTSTAMP:20260423T144328Z
SUMMARY:Grassroots Special Projects Coordinator for the Fair Tax
DESCRIPTION:A message from TheEarthisNotFlat to all members of I Resis
 t Socialism! on The Patriotic Resistance!\n\nHey all,\nI will be hosti
 ng an online radio show tomorrow March 24th at 5:30 pm eastern time. I
  understand the time might not be the most convenient but I encourage\
 nall to join, listen, and call in with your questions, comments, and w
 hatever else you want to get off your chest.\n\nMy guest will be the G
 rassroots Special Projects Coordinator for the Fair Tax website/organi
 zation.\n\nThe show call in number will be (347) 324-3826 and the link
  to the site is\nhttp://www.blogtalkradio.com/TakeBackAmerica. I hope 
 you can make it.\n\nFor more information visit http://www.fairtaxnatio
 n.com/events/grassroots-special-projects
DTSTART;TZID=America/Cancun:20090324T173000
DTEND;TZID=America/Cancun:20090324T180000
CATEGORIES:radio, call, in
LOCATION:http://www.blogtalkradio.com/TakeBackAmerica.
WEBSITE:http://www.resistnet.com/groups/group/show?id=2600775%3AGroup%
 3A95
URL:http://www.resistnet.com/groups/group/show?id=2600775%3AGroup%3A95
CONTACT:(347) 324-3826
ORGANIZER:TheEarthisNotFlat
ATTACH;FMTTYPE="image/jpeg":
ATTENDEE;ROLE=REQ-PARTICIPANT;PARTSTAT=ACCEPTED;RSVP=TRUE;CN=Billie:ht
 tp://www.fairtaxnation.com/profile/Billie
END:VEVENT
END:VCALENDAR
