BEGIN:VCALENDAR
PRODID:NingEventWidget-v1
VERSION:2.0
METHOD:PUBLISH
BEGIN:VTIMEZONE
TZID:America/Cancun
X-LIC-LOCATION:America/Cancun
BEGIN:DAYLIGHT
TZOFFSETFROM:-0600
TZOFFSETTO:-0500
TZNAME:CDT
DTSTART:19700405T020000
RRULE:FREQ=YEARLY;BYMONTH=4;BYDAY=1SU
END:DAYLIGHT
BEGIN:STANDARD
TZOFFSETFROM:-0500
TZOFFSETTO:-0600
TZNAME:CST
DTSTART:19701025T020000
RRULE:FREQ=YEARLY;BYMONTH=10;BYDAY=-1SU
END:STANDARD
END:VTIMEZONE
BEGIN:VEVENT
UID:2636007:Event:188255
DTSTAMP:20260421T000505Z
SUMMARY:HONK 4 FAIRTAX, FairTax Sign Waving
DESCRIPTION:FairTax Wave Before Candidate Forum....\nMONDAY, JULY 21, 
 2014, 6PM\n\n \nmeet in the PUD Parking Lot on 10th & Ely (off 395) a
 t 6pm\n\nWAVING from 6:15-6:45\n\n \n\nPLEASE RSVP So I will bring en
 ough signs!\nLooking forward to seeing you and showing the candidates\
 nthe FairTax is an important issue!\nABOLISH THE IRS, just for starts!
 \n\nFor more information visit http://www.fairtaxnation.com/events/hon
 k-4-fairtax-fairtax-sign-waving
DTSTART;TZID=America/Cancun:20140721T180000
DTEND;TZID=America/Cancun:20140721T184500
CATEGORIES:awareness
LOCATION:corner of 395 & 10th
WEBSITE:
URL:
CONTACT:509-586-7124
ORGANIZER;CN="Jamie Wheeler WA":http://www.fairtaxnation.com/profile/J
 amie
ATTACH;FMTTYPE="image/jpeg":
ATTENDEE;ROLE=REQ-PARTICIPANT;PARTSTAT=ACCEPTED;RSVP=TRUE;CN="Jamie Wh
 eeler WA":http://www.fairtaxnation.com/profile/Jamie
END:VEVENT
END:VCALENDAR
