BEGIN:VCALENDAR
PRODID:NingEventWidget-v1
VERSION:2.0
METHOD:PUBLISH
BEGIN:VTIMEZONE
TZID:America/Cancun
X-LIC-LOCATION:America/Cancun
BEGIN:DAYLIGHT
TZOFFSETFROM:-0600
TZOFFSETTO:-0500
TZNAME:CDT
DTSTART:19700405T020000
RRULE:FREQ=YEARLY;BYMONTH=4;BYDAY=1SU
END:DAYLIGHT
BEGIN:STANDARD
TZOFFSETFROM:-0500
TZOFFSETTO:-0600
TZNAME:CST
DTSTART:19701025T020000
RRULE:FREQ=YEARLY;BYMONTH=10;BYDAY=-1SU
END:STANDARD
END:VTIMEZONE
BEGIN:VEVENT
UID:2636007:Event:26138
DTSTAMP:20260424T062646Z
SUMMARY:HuckPAC - Oklahoma City
DESCRIPTION:Be there or be taxed to death ;)\n\nFor more information v
 isit http://www.fairtaxnation.com/events/huckpac-oklahoma-city
DTSTART;TZID=America/Cancun:20090305T190000
DTEND;TZID=America/Cancun:20090305T210000
CATEGORIES:meeting
LOCATION:CiCi's Pizza
WEBSITE:
URL:
CONTACT:
ORGANIZER:I'm just showing up, not sure who organised.
ATTACH;FMTTYPE="image/jpeg":http://storage.ning.com/topology/rest/1.0/
 file/get/1080576717?profile=original
ATTENDEE;ROLE=REQ-PARTICIPANT;PARTSTAT=ACCEPTED;RSVP=TRUE;CN=Tony:http
 ://www.fairtaxnation.com/profile/Tony
END:VEVENT
END:VCALENDAR
