BEGIN:VCALENDAR
PRODID:NingEventWidget-v1
VERSION:2.0
METHOD:PUBLISH
BEGIN:VTIMEZONE
TZID:America/Cancun
X-LIC-LOCATION:America/Cancun
BEGIN:DAYLIGHT
TZOFFSETFROM:-0600
TZOFFSETTO:-0500
TZNAME:CDT
DTSTART:19700405T020000
RRULE:FREQ=YEARLY;BYMONTH=4;BYDAY=1SU
END:DAYLIGHT
BEGIN:STANDARD
TZOFFSETFROM:-0500
TZOFFSETTO:-0600
TZNAME:CST
DTSTART:19701025T020000
RRULE:FREQ=YEARLY;BYMONTH=10;BYDAY=-1SU
END:STANDARD
END:VTIMEZONE
BEGIN:VEVENT
UID:2636007:Event:91779
DTSTAMP:20260425T054001Z
SUMMARY:Huntsville, AL, FairTax Group
DESCRIPTION:The next Huntsville FairTax Group monthly meeting is sched
 uled for 7:00 pm on January 21st.. We'll be discussing upcoming activi
 ties to include the national push to enact the FairTax Act, our first 
 quarter 2010 FairTax activities and The Senior Expo in Huntsville next
  May. We'll also brainstorm other ways to spread the word on the FairT
 ax proposal HR 25 and S 296. Come join in and help us establish a real
  economic stimulus package through enactment of the FairTax Act.\n\nFo
 r more information visit http://www.fairtaxnation.com/events/huntsvill
 e-al-fairtax-group-1
DTSTART;TZID=America/Cancun:20100121T190000
DTEND;TZID=America/Cancun:20100121T210000
CATEGORIES:monthly, meeting
LOCATION:E.S. Brooks School of Real Estate
WEBSITE:http://www.esbrooks.com
URL:http://www.esbrooks.com
CONTACT:256-776-5636
ORGANIZER;CN="Chuck Bailey":http://www.fairtaxnation.com/profile/Chuck
 Bailey
ATTACH;FMTTYPE="image/jpeg":http://storage.ning.com/topology/rest/1.0/
 file/get/1080595174?profile=original
ATTENDEE;ROLE=REQ-PARTICIPANT;PARTSTAT=ACCEPTED;RSVP=TRUE;CN="Wally Fo
 x":http://www.fairtaxnation.com/profile/WallyFox
ATTENDEE;ROLE=REQ-PARTICIPANT;PARTSTAT=ACCEPTED;RSVP=TRUE;CN="Chuck Ba
 iley":http://www.fairtaxnation.com/profile/ChuckBailey
ATTENDEE;ROLE=REQ-PARTICIPANT;PARTSTAT=TENTATIVE;RSVP=TRUE;CN="george 
 coulson":http://www.fairtaxnation.com/profile/georgecoulson
END:VEVENT
END:VCALENDAR
