BEGIN:VCALENDAR
PRODID:NingEventWidget-v1
VERSION:2.0
METHOD:PUBLISH
BEGIN:VTIMEZONE
TZID:America/Cancun
X-LIC-LOCATION:America/Cancun
BEGIN:DAYLIGHT
TZOFFSETFROM:-0600
TZOFFSETTO:-0500
TZNAME:CDT
DTSTART:19700405T020000
RRULE:FREQ=YEARLY;BYMONTH=4;BYDAY=1SU
END:DAYLIGHT
BEGIN:STANDARD
TZOFFSETFROM:-0500
TZOFFSETTO:-0600
TZNAME:CST
DTSTART:19701025T020000
RRULE:FREQ=YEARLY;BYMONTH=10;BYDAY=-1SU
END:STANDARD
END:VTIMEZONE
BEGIN:VEVENT
UID:2636007:Event:51113
DTSTAMP:20260421T130303Z
SUMMARY:Huntsville,AL-New! Hampton Cove FairTax Group
DESCRIPTION:Date: Tomorrow! Monday April 27, 2009\nTime: 7:00 pm - 9:0
 0 pm\nLocation: Huntsville, Alabama\nStreet: King Drake Road\nCity/Sta
 te/Zip: Brownsboro, Near Hampton Cove\n\nThe 5th District FairTax Grou
 p will conduct an information meeting in the Hampton Cove area on Mond
 ay, with the intention of establishing a Hampton Cove FairTax Group\n\
 nWhere: Timber's Edge Clubhouse\nKing Drake Road, Brownsboro (behind n
 ew Hampton Inn on U.S. 431, East on Caldwell Lane,left on at King Drak
 e Road)\n\nPurpose: Information Presentation on the FairTax Proposal: 
 The FairTax Act of\n2009, U.S. House Bill H.R. 25,\nSenate Bill S. 296
 .\n\nChuck Bailey\nFairTax Volunteer\n\nDistrict Director\nAlabama Con
 gressional District 5\nirlaserman@sprynet.com\n256-776-5636(Home)\n256
 -479-4350(Cell)\n\nFor more information visit http://www.fairtaxnation
 .com/events/huntsvillealnew-hampton-cove
DTSTART;TZID=America/Cancun:20090427T190000
DTEND;TZID=America/Cancun:20090427T210000
CATEGORIES:meeting, startup, newly, forming
LOCATION:Huntsville, AL Hampton Cove Area
WEBSITE:
URL:
CONTACT:256-776-5636(Home)
ORGANIZER;CN="alfairtax-Kelley Frederick":http://www.fairtaxnation.com
 /profile/alfairtax
ATTACH;FMTTYPE="image/jpeg":http://storage.ning.com/topology/rest/1.0/
 file/get/1080582457?profile=original
ATTENDEE;ROLE=REQ-PARTICIPANT;PARTSTAT=ACCEPTED;RSVP=TRUE;CN="alfairta
 x-Kelley Frederick":http://www.fairtaxnation.com/profile/alfairtax
END:VEVENT
END:VCALENDAR
