BEGIN:VCALENDAR
PRODID:NingEventWidget-v1
VERSION:2.0
METHOD:PUBLISH
BEGIN:VTIMEZONE
TZID:America/Cancun
X-LIC-LOCATION:America/Cancun
BEGIN:DAYLIGHT
TZOFFSETFROM:-0600
TZOFFSETTO:-0500
TZNAME:CDT
DTSTART:19700405T020000
RRULE:FREQ=YEARLY;BYMONTH=4;BYDAY=1SU
END:DAYLIGHT
BEGIN:STANDARD
TZOFFSETFROM:-0500
TZOFFSETTO:-0600
TZNAME:CST
DTSTART:19701025T020000
RRULE:FREQ=YEARLY;BYMONTH=10;BYDAY=-1SU
END:STANDARD
END:VTIMEZONE
BEGIN:VEVENT
UID:2636007:Event:63306
DTSTAMP:20260421T125545Z
SUMMARY:IL FairTax meeting -- 11th Congressional Dist
DESCRIPTION:FairTax planning session. Breakfast/lunch is at your expen
 se.\n\nAgenda Item: Will County Fair Booth\n\nFor more information vis
 it http://www.fairtaxnation.com/events/il-fairtax-meeting-11th
DTSTART;TZID=America/Cancun:20090613T110000
DTEND;TZID=America/Cancun:20090613T140000
CATEGORIES:planning, session
LOCATION:Silver Spoon Restaurant
WEBSITE:
URL:
CONTACT:(815) 725-6202‎
ORGANIZER:11th Dist FairTax Volunteers
ATTACH;FMTTYPE="image/jpeg":http://storage.ning.com/topology/rest/1.0/
 file/get/1080588041?profile=original
ATTENDEE;ROLE=REQ-PARTICIPANT;PARTSTAT=ACCEPTED;RSVP=TRUE;CN="Marilyn 
 Rickert":http://www.fairtaxnation.com/profile/Marilyn
END:VEVENT
END:VCALENDAR
