BEGIN:VCALENDAR
PRODID:NingEventWidget-v1
VERSION:2.0
METHOD:PUBLISH
BEGIN:VTIMEZONE
TZID:America/Cancun
X-LIC-LOCATION:America/Cancun
BEGIN:DAYLIGHT
TZOFFSETFROM:-0600
TZOFFSETTO:-0500
TZNAME:CDT
DTSTART:19700405T020000
RRULE:FREQ=YEARLY;BYMONTH=4;BYDAY=1SU
END:DAYLIGHT
BEGIN:STANDARD
TZOFFSETFROM:-0500
TZOFFSETTO:-0600
TZNAME:CST
DTSTART:19701025T020000
RRULE:FREQ=YEARLY;BYMONTH=10;BYDAY=-1SU
END:STANDARD
END:VTIMEZONE
BEGIN:VEVENT
UID:2636007:Event:132932
DTSTAMP:20260425T100753Z
SUMMARY:IL State Wide Tax Day Rally
DESCRIPTION:Join us to hear Glen Ebbing on behalf of the FairTax.\n \
 nVolunteers needed to hold FairTax signs, pass out information, etc.\n
 \nFor more information visit http://www.fairtaxnation.com/events/il-st
 ate-wide-tax-day-rally
DTSTART;TZID=America/Cancun:20110415T120000
DTEND;TZID=America/Cancun:20110415T143000
CATEGORIES:rally
LOCATION:IL State Capital -- Near Lincoln Statue
WEBSITE:
URL:
CONTACT:708-687-9412
ORGANIZER;CN="Marilyn Rickert":http://www.fairtaxnation.com/profile/Ma
 rilyn
ATTACH;FMTTYPE="image/jpeg":http://storage.ning.com/topology/rest/1.0/
 file/get/1080603626?profile=original
ATTENDEE;ROLE=REQ-PARTICIPANT;PARTSTAT=ACCEPTED;RSVP=TRUE;CN="Marilyn 
 Rickert":http://www.fairtaxnation.com/profile/Marilyn
END:VEVENT
END:VCALENDAR
