BEGIN:VCALENDAR
PRODID:NingEventWidget-v1
VERSION:2.0
METHOD:PUBLISH
BEGIN:VTIMEZONE
TZID:America/Cancun
X-LIC-LOCATION:America/Cancun
BEGIN:DAYLIGHT
TZOFFSETFROM:-0600
TZOFFSETTO:-0500
TZNAME:CDT
DTSTART:19700405T020000
RRULE:FREQ=YEARLY;BYMONTH=4;BYDAY=1SU
END:DAYLIGHT
BEGIN:STANDARD
TZOFFSETFROM:-0500
TZOFFSETTO:-0600
TZNAME:CST
DTSTART:19701025T020000
RRULE:FREQ=YEARLY;BYMONTH=10;BYDAY=-1SU
END:STANDARD
END:VTIMEZONE
BEGIN:VEVENT
UID:2636007:Event:84148
DTSTAMP:20260423T214550Z
SUMMARY:Important! Wiregrass Fair Tax Meeting
DESCRIPTION:We're asking everyone to commit to bring three friends to 
 see a short video. Afterwards, there will be time for questions. Then 
 we will make plans for the future.\n\nEvery day I am more and more con
 vinced that the fair tax holds out hope like nothing I have seen in my
  lifetime. Each of us must be passionate in our belief that we can mak
 e this change happen. I am proud of the group we got going in the spri
 ng and congratulate everyone of you on your contribution. Now we must 
 get this little snowball rolling until it grows into an avalanche that
  will have the desired effect on our legislators.\n\nPlease set aside 
 the evening of September 17th and join us for this important event. Do
 n't forget to RSVP so we will have adequate materials.\n\nGerald\n\nFo
 r more information visit http://www.fairtaxnation.com/events/important
 -wiregrass-fair-tax
DTSTART;TZID=America/Cancun:20090917T190000
DTEND;TZID=America/Cancun:20090917T203000
CATEGORIES:"information/outreach/planning"
LOCATION:Wiregrass Rehab Lion's Hall
WEBSITE:
URL:
CONTACT:334 677-5551
ORGANIZER:Gerald Crowley, Chairman
ATTACH;FMTTYPE="image/jpeg":
ATTENDEE;ROLE=REQ-PARTICIPANT;PARTSTAT=ACCEPTED;RSVP=TRUE;CN="Derek St
 ephan Brown":http://www.fairtaxnation.com/profile/DerekStephanBrown
ATTENDEE;ROLE=REQ-PARTICIPANT;PARTSTAT=ACCEPTED;RSVP=TRUE;CN="Jan Muel
 ler":http://www.fairtaxnation.com/profile/JanMueller
ATTENDEE;ROLE=REQ-PARTICIPANT;PARTSTAT=ACCEPTED;RSVP=TRUE;CN="Debbie K
 irkland":http://www.fairtaxnation.com/profile/DebbieKirkland
END:VEVENT
END:VCALENDAR
