BEGIN:VCALENDAR
PRODID:NingEventWidget-v1
VERSION:2.0
METHOD:PUBLISH
BEGIN:VTIMEZONE
TZID:America/Cancun
X-LIC-LOCATION:America/Cancun
BEGIN:DAYLIGHT
TZOFFSETFROM:-0600
TZOFFSETTO:-0500
TZNAME:CDT
DTSTART:19700405T020000
RRULE:FREQ=YEARLY;BYMONTH=4;BYDAY=1SU
END:DAYLIGHT
BEGIN:STANDARD
TZOFFSETFROM:-0500
TZOFFSETTO:-0600
TZNAME:CST
DTSTART:19701025T020000
RRULE:FREQ=YEARLY;BYMONTH=10;BYDAY=-1SU
END:STANDARD
END:VTIMEZONE
BEGIN:VEVENT
UID:2636007:Event:64433
DTSTAMP:20260422T050352Z
SUMMARY:Independence Day Asheville Tea Party
DESCRIPTION:FairTaxers want to be a part of the July 4th Independence 
 Day Tea Party in Asheville and plan to host a table at the event. We n
 eed volunteers to answer questions, hand out information, and ask for 
 signatures and email addresses. These are always lots of fun!! Please 
 contact me and let me know that you want to be there!! laura@wofm.us o
 r\n828-777-1068\n\nFor more information visit http://www.fairtaxnation
 .com/events/independence-day-asheville-tea
DTSTART;TZID=America/Cancun:20090704T150000
DTEND;TZID=America/Cancun:20090704T173000
CATEGORIES:"celebration/rally"
LOCATION:Area in front of Buncombe County Courthouse
WEBSITE:http://ashevilleteaparty.wordpress.com/
URL:http://ashevilleteaparty.wordpress.com/
CONTACT:828-274-7844 or laura@wofm.us
ORGANIZER:Laura McCue/Erika Franzi
ATTACH;FMTTYPE="image/jpeg":http://storage.ning.com/topology/rest/1.0/
 file/get/1080586796?profile=original
ATTENDEE;ROLE=REQ-PARTICIPANT;PARTSTAT=ACCEPTED;RSVP=TRUE;CN="Mike McL
 ean":http://www.fairtaxnation.com/profile/MikeMcLean
ATTENDEE;ROLE=REQ-PARTICIPANT;PARTSTAT=ACCEPTED;RSVP=TRUE;CN="Larry Po
 rter":http://www.fairtaxnation.com/profile/LarryPorter
ATTENDEE;ROLE=REQ-PARTICIPANT;PARTSTAT=ACCEPTED;RSVP=TRUE;CN="Laura Mc
 Cue":http://www.fairtaxnation.com/profile/LauraMcCue
END:VEVENT
END:VCALENDAR
