BEGIN:VCALENDAR
PRODID:NingEventWidget-v1
VERSION:2.0
METHOD:PUBLISH
BEGIN:VTIMEZONE
TZID:America/Cancun
X-LIC-LOCATION:America/Cancun
BEGIN:DAYLIGHT
TZOFFSETFROM:-0600
TZOFFSETTO:-0500
TZNAME:CDT
DTSTART:19700405T020000
RRULE:FREQ=YEARLY;BYMONTH=4;BYDAY=1SU
END:DAYLIGHT
BEGIN:STANDARD
TZOFFSETFROM:-0500
TZOFFSETTO:-0600
TZNAME:CST
DTSTART:19701025T020000
RRULE:FREQ=YEARLY;BYMONTH=10;BYDAY=-1SU
END:STANDARD
END:VTIMEZONE
BEGIN:VEVENT
UID:2636007:Event:62602
DTSTAMP:20260422T123610Z
SUMMARY:Independence Day Tea Party
DESCRIPTION:The North Carolina Tea Party Revolution, Americans for Pro
 sperity, the 9/12 project, Wake County Tax Payers, Civitas, and the Jo
 hn Locke Foundation are sponsoring an Independence Day Tea Party on Ju
 ly 4 at the Halifax Mall in downtown Raleigh NC.\nThe Halifax Mall is 
 the lawn immediately behind the NC Legislative Building.\n\nI have bee
 n invited to speak on the FairTax (15 minutes worth !) and participate
  in a Town Hall Forum\n\nFor more information visit http://www.fairtax
 nation.com/events/independence-day-tea-party
DTSTART;TZID=America/Cancun:20090704T000000
DTEND;TZID=America/Cancun:20090704T235900
CATEGORIES:tea, party
LOCATION:Halifax Mall, Raleigh NC
WEBSITE:http://www.ncteapartyrevolution.com/
URL:http://www.ncteapartyrevolution.com/
CONTACT:
ORGANIZER:NC Tea Party Revolution
ATTACH;FMTTYPE="image/jpeg":http://storage.ning.com/topology/rest/1.0/
 file/get/1080584723?profile=original
ATTENDEE;ROLE=REQ-PARTICIPANT;PARTSTAT=ACCEPTED;RSVP=TRUE;CN="Bob Mora
 in":http://www.fairtaxnation.com/profile/BobMorain
ATTENDEE;ROLE=REQ-PARTICIPANT;PARTSTAT=ACCEPTED;RSVP=TRUE;CN="Michael 
 Patton":http://www.fairtaxnation.com/profile/MichaelPatton
ATTENDEE;ROLE=REQ-PARTICIPANT;PARTSTAT=TENTATIVE;RSVP=TRUE;CN="Mike Ec
 kardt":http://www.fairtaxnation.com/profile/MikeEckardt
ATTENDEE;ROLE=REQ-PARTICIPANT;PARTSTAT=TENTATIVE;RSVP=TRUE;CN="Patrick
  Stouman Benson":http://www.fairtaxnation.com/profile/PatrickStoumanBe
 nson
ATTENDEE;ROLE=REQ-PARTICIPANT;PARTSTAT=TENTATIVE;RSVP=TRUE;CN="Mike Po
 ol":http://www.fairtaxnation.com/profile/MikePool
END:VEVENT
END:VCALENDAR
