BEGIN:VCALENDAR
PRODID:NingEventWidget-v1
VERSION:2.0
METHOD:PUBLISH
BEGIN:VTIMEZONE
TZID:America/Cancun
X-LIC-LOCATION:America/Cancun
BEGIN:DAYLIGHT
TZOFFSETFROM:-0600
TZOFFSETTO:-0500
TZNAME:CDT
DTSTART:19700405T020000
RRULE:FREQ=YEARLY;BYMONTH=4;BYDAY=1SU
END:DAYLIGHT
BEGIN:STANDARD
TZOFFSETFROM:-0500
TZOFFSETTO:-0600
TZNAME:CST
DTSTART:19701025T020000
RRULE:FREQ=YEARLY;BYMONTH=10;BYDAY=-1SU
END:STANDARD
END:VTIMEZONE
BEGIN:VEVENT
UID:2636007:Event:14459
DTSTAMP:20260424T150946Z
SUMMARY:Informal \"tea party\" and brainstorming session in D.C
DESCRIPTION:To build our Grassroots efforts in the D.C. area, I plan t
 o host an informal FairTax \"tea party\" at the Days Inn Hotel http://
 www.dcdaysinn.com/\n\nSunday afternoon March 1 from 1:00 pm until 3:00
  pm.\n\nI have a conference room that will hold a dozen people, but I 
 would be happy to look for a larger meeting room to accommodate additi
 onal FairTax advocates as needed.\n\nRSVPs would be greatly appreciate
 d\n\nFor more information visit http://www.fairtaxnation.com/events/in
 formal-tea-party-and
DTSTART;TZID=America/Cancun:20090301T130000
DTEND;TZID=America/Cancun:20090301T150000
CATEGORIES:fairtax, brainstorming, session
LOCATION:Days Inn Connecticut Avenue
WEBSITE:http://www.dcdaysinn.com/
URL:http://www.dcdaysinn.com/
CONTACT:708-227-8542
ORGANIZER;CN="Marilyn Rickert":http://www.fairtaxnation.com/profile/Ma
 rilyn
ATTACH;FMTTYPE="image/jpeg":http://storage.ning.com/topology/rest/1.0/
 file/get/1080573693?profile=original
ATTENDEE;ROLE=REQ-PARTICIPANT;PARTSTAT=ACCEPTED;RSVP=TRUE;CN="Luke Ken
 worthy":http://www.fairtaxnation.com/profile/LukeKenworthy
ATTENDEE;ROLE=REQ-PARTICIPANT;PARTSTAT=ACCEPTED;RSVP=TRUE;CN="Jabari Z
 akiya":http://www.fairtaxnation.com/profile/JabariZakiya
ATTENDEE;ROLE=REQ-PARTICIPANT;PARTSTAT=ACCEPTED;RSVP=TRUE;CN="Marilyn 
 Rickert":http://www.fairtaxnation.com/profile/Marilyn
ATTENDEE;ROLE=REQ-PARTICIPANT;PARTSTAT=TENTATIVE;RSVP=TRUE;CN=Don:http
 ://www.fairtaxnation.com/profile/Don76
END:VEVENT
END:VCALENDAR
