BEGIN:VCALENDAR
PRODID:NingEventWidget-v1
VERSION:2.0
METHOD:PUBLISH
BEGIN:VTIMEZONE
TZID:America/Cancun
X-LIC-LOCATION:America/Cancun
BEGIN:DAYLIGHT
TZOFFSETFROM:-0600
TZOFFSETTO:-0500
TZNAME:CDT
DTSTART:19700405T020000
RRULE:FREQ=YEARLY;BYMONTH=4;BYDAY=1SU
END:DAYLIGHT
BEGIN:STANDARD
TZOFFSETFROM:-0500
TZOFFSETTO:-0600
TZNAME:CST
DTSTART:19701025T020000
RRULE:FREQ=YEARLY;BYMONTH=10;BYDAY=-1SU
END:STANDARD
END:VTIMEZONE
BEGIN:VEVENT
UID:2636007:Event:134917
DTSTAMP:20260421T062915Z
SUMMARY:Informational picket @ Dayton main post office
DESCRIPTION:A four hour event that is ment to let Daytonians know that
  the efforts to pass real tax reform is here to stay. We will be carry
 ing signs and passing out any literature we have on hand. Come out an
 d join us and then go to the Tea Party Rally over at Courthose Square.
  Don't forget to come out in your FairTax apparel.\n\nFor more informa
 tion visit http://www.fairtaxnation.com/events/informational-picket-da
 yton
DTSTART;TZID=America/Cancun:20110418T130000
DTEND;TZID=America/Cancun:20110418T170000
CATEGORIES:informational, picket
LOCATION:Main Post Office, Dayton, Ohio
WEBSITE:
URL:
CONTACT:937-830-4940
ORGANIZER;CN="Frank Gilbert":http://www.fairtaxnation.com/profile/Fran
 kGilbert
ATTACH;FMTTYPE="image/jpeg":http://storage.ning.com/topology/rest/1.0/
 file/get/1080604662?profile=original
ATTENDEE;ROLE=REQ-PARTICIPANT;PARTSTAT=ACCEPTED;RSVP=TRUE;CN="Kirk G":
 http://www.fairtaxnation.com/profile/KirkGoings
ATTENDEE;ROLE=REQ-PARTICIPANT;PARTSTAT=ACCEPTED;RSVP=TRUE;CN="Frank Gi
 lbert":http://www.fairtaxnation.com/profile/FrankGilbert
END:VEVENT
END:VCALENDAR
