BEGIN:VCALENDAR
PRODID:NingEventWidget-v1
VERSION:2.0
METHOD:PUBLISH
BEGIN:VTIMEZONE
TZID:America/Cancun
X-LIC-LOCATION:America/Cancun
BEGIN:DAYLIGHT
TZOFFSETFROM:-0600
TZOFFSETTO:-0500
TZNAME:CDT
DTSTART:19700405T020000
RRULE:FREQ=YEARLY;BYMONTH=4;BYDAY=1SU
END:DAYLIGHT
BEGIN:STANDARD
TZOFFSETFROM:-0500
TZOFFSETTO:-0600
TZNAME:CST
DTSTART:19701025T020000
RRULE:FREQ=YEARLY;BYMONTH=10;BYDAY=-1SU
END:STANDARD
END:VTIMEZONE
BEGIN:VEVENT
UID:2636007:Event:85489
DTSTAMP:20260422T072044Z
SUMMARY:IT IS TIME TO voice a \"solution\"!!!
DESCRIPTION:Calling all FairTax Supporters to network for TWO major up
 coming events! Both of which will make it possible for LOTS of FairTax
  education & participation! \"Boots on the Ground\" YES WE CAN! **NOTE
  the time is Pacific Standard Time. (westcoast)\n\n1-605-475-4825\nAcc
 ess Code: 436526#\nPlease...it is VERY important that you MUTE your ph
 one when you are not sharing/speaking in order to keep the background 
 to minimum and enable all to hear what is being said. Thank You!\n\nFo
 r more information visit http://www.fairtaxnation.com/events/it-is-tim
 e-to-voice-a-solution
DTSTART;TZID=America/Cancun:20091006T200000
DTEND;TZID=America/Cancun:20091006T204500
CATEGORIES:"networking/planning", call
LOCATION:Phone
WEBSITE:
URL:
CONTACT:509-586-7124
ORGANIZER;CN="Jamie Wheeler WA":http://www.fairtaxnation.com/profile/J
 amie
ATTACH;FMTTYPE="image/jpeg":http://storage.ning.com/topology/rest/1.0/
 file/get/1080591952?profile=original
ATTENDEE;ROLE=REQ-PARTICIPANT;PARTSTAT=ACCEPTED;RSVP=TRUE;CN=Joshua:ht
 tp://www.fairtaxnation.com/profile/Joshua
ATTENDEE;ROLE=REQ-PARTICIPANT;PARTSTAT=ACCEPTED;RSVP=TRUE;CN="Debbie S
 hephard":http://www.fairtaxnation.com/profile/DebbieShephard
ATTENDEE;ROLE=REQ-PARTICIPANT;PARTSTAT=ACCEPTED;RSVP=TRUE;CN="Jamie Wh
 eeler WA":http://www.fairtaxnation.com/profile/Jamie
END:VEVENT
END:VCALENDAR
