BEGIN:VCALENDAR
PRODID:NingEventWidget-v1
VERSION:2.0
METHOD:PUBLISH
BEGIN:VTIMEZONE
TZID:America/Cancun
X-LIC-LOCATION:America/Cancun
BEGIN:DAYLIGHT
TZOFFSETFROM:-0600
TZOFFSETTO:-0500
TZNAME:CDT
DTSTART:19700405T020000
RRULE:FREQ=YEARLY;BYMONTH=4;BYDAY=1SU
END:DAYLIGHT
BEGIN:STANDARD
TZOFFSETFROM:-0500
TZOFFSETTO:-0600
TZNAME:CST
DTSTART:19701025T020000
RRULE:FREQ=YEARLY;BYMONTH=10;BYDAY=-1SU
END:STANDARD
END:VTIMEZONE
BEGIN:VEVENT
UID:2636007:Event:84133
DTSTAMP:20260424T011134Z
SUMMARY:Jarrod Martin
DESCRIPTION:Jarrod Martin has agreed to come out to talk with us at a 
 meeting of the Beavercreek Liberty Group. Jarrod holds the seat in Ohi
 o's 70th district. Jarrod is a Repub and is a staunch Fair tax advocat
 e. The Peace Luthern Church is directly across the street from the B'c
 reek Post Office. Come and join us at 7:00pm.\n\nFor more information 
 visit http://www.fairtaxnation.com/events/jarrod-martin
DTSTART;TZID=America/Cancun:20090916T190000
DTEND;TZID=America/Cancun:20090916T203000
CATEGORIES:special, meeting
LOCATION:Peace Luthern Church
WEBSITE:
URL:
CONTACT:
ORGANIZER;CN="Phil Claypool":http://www.fairtaxnation.com/profile/Phil
ATTACH;FMTTYPE="image/jpeg":http://storage.ning.com/topology/rest/1.0/
 file/get/1080589246?profile=original
ATTENDEE;ROLE=REQ-PARTICIPANT;PARTSTAT=ACCEPTED;RSVP=TRUE;CN="Phil Cla
 ypool":http://www.fairtaxnation.com/profile/Phil
END:VEVENT
END:VCALENDAR
