BEGIN:VCALENDAR
PRODID:NingEventWidget-v1
VERSION:2.0
METHOD:PUBLISH
BEGIN:VTIMEZONE
TZID:America/Cancun
X-LIC-LOCATION:America/Cancun
BEGIN:DAYLIGHT
TZOFFSETFROM:-0600
TZOFFSETTO:-0500
TZNAME:CDT
DTSTART:19700405T020000
RRULE:FREQ=YEARLY;BYMONTH=4;BYDAY=1SU
END:DAYLIGHT
BEGIN:STANDARD
TZOFFSETFROM:-0500
TZOFFSETTO:-0600
TZNAME:CST
DTSTART:19701025T020000
RRULE:FREQ=YEARLY;BYMONTH=10;BYDAY=-1SU
END:STANDARD
END:VTIMEZONE
BEGIN:VEVENT
UID:2636007:Event:43289
DTSTAMP:20260421T220724Z
SUMMARY:Johnston County Fair Tax Meeting
DESCRIPTION:I was able to get the Golden Coral in Smithfield to let us
  hold the meeting there on Thursday June 25th. So we will start at 6:3
 0Pm and run until around 8PM. Please let me know if you plan to attend
 .\n\nThank You\n\nDave\n\n\nThank You\nDave\n\nFor more information vi
 sit http://www.fairtaxnation.com/events/johnston-county-fair-tax-1
DTSTART;TZID=America/Cancun:20090625T183000
DTEND;TZID=America/Cancun:20090625T200000
CATEGORIES:meeting
LOCATION:Golden Coral Smithfield
WEBSITE:
URL:
CONTACT:
ORGANIZER;CN="David G. Speckhardt Sr.":http://www.fairtaxnation.com/pr
 ofile/DavidGSpeckhardtSr
ATTACH;FMTTYPE="image/jpeg":
ATTENDEE;ROLE=REQ-PARTICIPANT;PARTSTAT=ACCEPTED;RSVP=TRUE;CN="Joy W Pa
 ul":http://www.fairtaxnation.com/profile/JoyWPaul
ATTENDEE;ROLE=REQ-PARTICIPANT;PARTSTAT=ACCEPTED;RSVP=TRUE;CN="Gene Mil
 ler":http://www.fairtaxnation.com/profile/MaryMiller
ATTENDEE;ROLE=REQ-PARTICIPANT;PARTSTAT=ACCEPTED;RSVP=TRUE;CN="Mike Poo
 l":http://www.fairtaxnation.com/profile/MikePool
ATTENDEE;ROLE=REQ-PARTICIPANT;PARTSTAT=ACCEPTED;RSVP=TRUE;CN="David G.
  Speckhardt Sr.":http://www.fairtaxnation.com/profile/DavidGSpeckhardt
 Sr
ATTENDEE;ROLE=REQ-PARTICIPANT;PARTSTAT=TENTATIVE;RSVP=TRUE;CN="Craig K
 irby":http://www.fairtaxnation.com/profile/CraigKirby
ATTENDEE;ROLE=REQ-PARTICIPANT;PARTSTAT=TENTATIVE;RSVP=TRUE;CN="Rose Pa
 rks":http://www.fairtaxnation.com/profile/RoseParks
END:VEVENT
END:VCALENDAR
