BEGIN:VCALENDAR
PRODID:NingEventWidget-v1
VERSION:2.0
METHOD:PUBLISH
BEGIN:VTIMEZONE
TZID:America/Cancun
X-LIC-LOCATION:America/Cancun
BEGIN:DAYLIGHT
TZOFFSETFROM:-0600
TZOFFSETTO:-0500
TZNAME:CDT
DTSTART:19700405T020000
RRULE:FREQ=YEARLY;BYMONTH=4;BYDAY=1SU
END:DAYLIGHT
BEGIN:STANDARD
TZOFFSETFROM:-0500
TZOFFSETTO:-0600
TZNAME:CST
DTSTART:19701025T020000
RRULE:FREQ=YEARLY;BYMONTH=10;BYDAY=-1SU
END:STANDARD
END:VTIMEZONE
BEGIN:VEVENT
UID:2636007:Event:83895
DTSTAMP:20260423T182906Z
SUMMARY:Joliet, IL FairTax Brunch meeting
DESCRIPTION:Join us to discuss the FairTax and plan our next event!\n\
 nFor more information visit http://www.fairtaxnation.com/events/joliet
 -il-fairtax-brunch
DTSTART;TZID=America/Cancun:20090919T110000
DTEND;TZID=America/Cancun:20090919T130000
CATEGORIES:"breakfast/lunch", meeting
LOCATION:Silver Spoon Restaurant
WEBSITE:http://www.local.botw.org/Illinois/Joliet/Silver_Spoon_Restaur
 ant/47066381.html
URL:http://www.local.botw.org/Illinois/Joliet/Silver_Spoon_Restaurant/
 47066381.html
CONTACT:815-474-4385
ORGANIZER:Glen
ATTACH;FMTTYPE="image/jpeg":http://storage.ning.com/topology/rest/1.0/
 file/get/1080588802?profile=original
ATTENDEE;ROLE=REQ-PARTICIPANT;PARTSTAT=ACCEPTED;RSVP=TRUE;CN="Marilyn 
 Rickert":http://www.fairtaxnation.com/profile/Marilyn
END:VEVENT
END:VCALENDAR
