BEGIN:VCALENDAR
PRODID:NingEventWidget-v1
VERSION:2.0
METHOD:PUBLISH
BEGIN:VTIMEZONE
TZID:America/Cancun
X-LIC-LOCATION:America/Cancun
BEGIN:DAYLIGHT
TZOFFSETFROM:-0600
TZOFFSETTO:-0500
TZNAME:CDT
DTSTART:19700405T020000
RRULE:FREQ=YEARLY;BYMONTH=4;BYDAY=1SU
END:DAYLIGHT
BEGIN:STANDARD
TZOFFSETFROM:-0500
TZOFFSETTO:-0600
TZNAME:CST
DTSTART:19701025T020000
RRULE:FREQ=YEARLY;BYMONTH=10;BYDAY=-1SU
END:STANDARD
END:VTIMEZONE
BEGIN:VEVENT
UID:2636007:Event:65209
DTSTAMP:20260422T002022Z
SUMMARY:Joliet IL FairTax meeting -- everyone welcome
DESCRIPTION:Breakfast/lunch at your expense.\n\nFor more information v
 isit http://www.fairtaxnation.com/events/joliet-il-fairtax-meeting
DTSTART;TZID=America/Cancun:20090711T110000
DTEND;TZID=America/Cancun:20090711T123000
CATEGORIES:volunteer, meeting
LOCATION:Silver Spoon Restaurant
WEBSITE:
URL:
CONTACT:815-474-4385
ORGANIZER:Glenn Gornik
ATTACH;FMTTYPE="image/jpeg":http://storage.ning.com/topology/rest/1.0/
 file/get/1080588024?profile=original
ATTENDEE;ROLE=REQ-PARTICIPANT;PARTSTAT=ACCEPTED;RSVP=TRUE;CN="Marilyn 
 Rickert":http://www.fairtaxnation.com/profile/Marilyn
END:VEVENT
END:VCALENDAR
