BEGIN:VCALENDAR
PRODID:NingEventWidget-v1
VERSION:2.0
METHOD:PUBLISH
BEGIN:VTIMEZONE
TZID:America/Cancun
X-LIC-LOCATION:America/Cancun
BEGIN:DAYLIGHT
TZOFFSETFROM:-0600
TZOFFSETTO:-0500
TZNAME:CDT
DTSTART:19700405T020000
RRULE:FREQ=YEARLY;BYMONTH=4;BYDAY=1SU
END:DAYLIGHT
BEGIN:STANDARD
TZOFFSETFROM:-0500
TZOFFSETTO:-0600
TZNAME:CST
DTSTART:19701025T020000
RRULE:FREQ=YEARLY;BYMONTH=10;BYDAY=-1SU
END:STANDARD
END:VTIMEZONE
BEGIN:VEVENT
UID:2636007:Event:46054
DTSTAMP:20260424T041319Z
SUMMARY:July 2nd Fair Tax Rally
DESCRIPTION:Hi All\nI ahd to change the date for the Rally to the 2nd 
 of July between 4 and 6PM. I have already received permission for the 
 County and verbal permission from the town. I was told by Mr. Paul Emb
 ler the Smithfield Planning Director that there should not be any prob
 lems getting the ok. So for everybody who wants to show your support p
 lease come out with your signs. I also want to thank everyone who has 
 given me support. I look forward to seeing you all there.\n\nDave\n\nF
 or more information visit http://www.fairtaxnation.com/events/july-2nd
 -fair-tax-rally
DTSTART;TZID=America/Cancun:20090702T160000
DTEND;TZID=America/Cancun:20090702T180000
CATEGORIES:rally
LOCATION:Johnston County Court House
WEBSITE:
URL:
CONTACT:
ORGANIZER;CN="David G. Speckhardt Sr.":http://www.fairtaxnation.com/pr
 ofile/DavidGSpeckhardtSr
ATTACH;FMTTYPE="image/jpeg":
ATTENDEE;ROLE=REQ-PARTICIPANT;PARTSTAT=ACCEPTED;RSVP=TRUE;CN="Bobby E.
  Frye":http://www.fairtaxnation.com/profile/BobbyEFrye
ATTENDEE;ROLE=REQ-PARTICIPANT;PARTSTAT=ACCEPTED;RSVP=TRUE;CN="Mike Poo
 l":http://www.fairtaxnation.com/profile/MikePool
ATTENDEE;ROLE=REQ-PARTICIPANT;PARTSTAT=ACCEPTED;RSVP=TRUE;CN="Rose Par
 ks":http://www.fairtaxnation.com/profile/RoseParks
ATTENDEE;ROLE=REQ-PARTICIPANT;PARTSTAT=ACCEPTED;RSVP=TRUE;CN="David G.
  Speckhardt Sr.":http://www.fairtaxnation.com/profile/DavidGSpeckhardt
 Sr
ATTENDEE;ROLE=REQ-PARTICIPANT;PARTSTAT=TENTATIVE;RSVP=TRUE;CN="Joy W P
 aul":http://www.fairtaxnation.com/profile/JoyWPaul
END:VEVENT
END:VCALENDAR
