BEGIN:VCALENDAR
PRODID:NingEventWidget-v1
VERSION:2.0
METHOD:PUBLISH
BEGIN:VTIMEZONE
TZID:America/Cancun
X-LIC-LOCATION:America/Cancun
BEGIN:DAYLIGHT
TZOFFSETFROM:-0600
TZOFFSETTO:-0500
TZNAME:CDT
DTSTART:19700405T020000
RRULE:FREQ=YEARLY;BYMONTH=4;BYDAY=1SU
END:DAYLIGHT
BEGIN:STANDARD
TZOFFSETFROM:-0500
TZOFFSETTO:-0600
TZNAME:CST
DTSTART:19701025T020000
RRULE:FREQ=YEARLY;BYMONTH=10;BYDAY=-1SU
END:STANDARD
END:VTIMEZONE
BEGIN:VEVENT
UID:2636007:Event:182278
DTSTAMP:20260423T200652Z
SUMMARY:July 4, 2013 Parade in Centerville
DESCRIPTION:We will be spending the Fair tax information at the Americ
 ana Parade in Centerville.  Parade starts at 10:00am at the High Scho
 ol and comes to our house at around 11:00am.  Steve will stay at our 
 house at 134 Virginia Ave. and I will work the crowd waiting to see th
 e parade.  Come up from the south from Spring Valley Rd. turn North o
 n SR 48 then West on Bristol (left), then North on Virginia (right).\n
 \nFor more information visit http://www.fairtaxnation.com/events/july-
 4-2013-parade-in-centerville
DTSTART;TZID=America/Cancun:20130704T100000
DTEND;TZID=America/Cancun:20130704T120000
CATEGORIES:spread, the, word, on, 4th
LOCATION:Rachel and Steve Hoadley's
WEBSITE:
URL:
CONTACT:
ORGANIZER;CN="Rachel Hoadley":http://www.fairtaxnation.com/profile/Rac
 helHoadley
ATTACH;FMTTYPE="image/jpeg":
ATTENDEE;ROLE=REQ-PARTICIPANT;PARTSTAT=ACCEPTED;RSVP=TRUE;CN="Rachel H
 oadley":http://www.fairtaxnation.com/profile/RachelHoadley
END:VEVENT
END:VCALENDAR
