BEGIN:VCALENDAR
PRODID:NingEventWidget-v1
VERSION:2.0
METHOD:PUBLISH
BEGIN:VTIMEZONE
TZID:America/Cancun
X-LIC-LOCATION:America/Cancun
BEGIN:DAYLIGHT
TZOFFSETFROM:-0600
TZOFFSETTO:-0500
TZNAME:CDT
DTSTART:19700405T020000
RRULE:FREQ=YEARLY;BYMONTH=4;BYDAY=1SU
END:DAYLIGHT
BEGIN:STANDARD
TZOFFSETFROM:-0500
TZOFFSETTO:-0600
TZNAME:CST
DTSTART:19701025T020000
RRULE:FREQ=YEARLY;BYMONTH=10;BYDAY=-1SU
END:STANDARD
END:VTIMEZONE
BEGIN:VEVENT
UID:2636007:Event:57398
DTSTAMP:20260422T115503Z
SUMMARY:July 4th Tea Party
DESCRIPTION:The second Salisbury, MD Tea Party. I am trying to get as 
 many FairTax supporters as I can to come to this protest with FairTax 
 signs.\n\nFor more information visit http://www.fairtaxnation.com/even
 ts/july-4th-tea-party
DTSTART;TZID=America/Cancun:20090704T090000
DTEND;TZID=America/Cancun:20090704T120000
CATEGORIES:tea, party, with, fairtax, supporters
LOCATION:Downtown Salisbury
WEBSITE:
URL:
CONTACT:410-726-3026
ORGANIZER;CN="Chris Lewis":http://www.fairtaxnation.com/profile/ChrisL
 ewis
ATTACH;FMTTYPE="image/jpeg":
ATTENDEE;ROLE=REQ-PARTICIPANT;PARTSTAT=ACCEPTED;RSVP=TRUE;CN="Chris Le
 wis":http://www.fairtaxnation.com/profile/ChrisLewis
END:VEVENT
END:VCALENDAR
