BEGIN:VCALENDAR
PRODID:NingEventWidget-v1
VERSION:2.0
METHOD:PUBLISH
BEGIN:VTIMEZONE
TZID:America/Cancun
X-LIC-LOCATION:America/Cancun
BEGIN:DAYLIGHT
TZOFFSETFROM:-0600
TZOFFSETTO:-0500
TZNAME:CDT
DTSTART:19700405T020000
RRULE:FREQ=YEARLY;BYMONTH=4;BYDAY=1SU
END:DAYLIGHT
BEGIN:STANDARD
TZOFFSETFROM:-0500
TZOFFSETTO:-0600
TZNAME:CST
DTSTART:19701025T020000
RRULE:FREQ=YEARLY;BYMONTH=10;BYDAY=-1SU
END:STANDARD
END:VTIMEZONE
BEGIN:VEVENT
UID:2636007:Event:167416
DTSTAMP:20260422T104214Z
SUMMARY:Keep This Saturday Free for a Rally and an Afternoon of Fun in
  Mount Laurel
DESCRIPTION:New Jersey FairTax-ers,Come swell the ranks for a FairTax 
 rally in Mount Laurel and have a good time!\nWHEN: Saturday, May 5th, 
 2012 (RAIN DATE May 12, 2012), 12:00 Noon - 2:00 PM.\nWHERE: Office of
  Congressman Jon Runyan representing the Third Congressional District 
 of New Jersey, Route 70 to Route 73 South off Interstate 295 or New Je
 rsey Turnpike, left on Church Rd.\nWHAT: Show Congressman Runyan that 
 the FairTax has legs!  He needs to pay attention!\nSpeakers include A
 nna C. Little, candidate for Congress in the Sixth Congressional Distr
 ict of New Jersey and presumptive Republican nominee, and Dave Corsi, 
 former candidate for Congress in the Twelfth Congressional District.\n
 No RSVP necessary, but you are encouraged to let Event Chair, Doug Das
 h (609) 828-1984, jddash@verizon.net.\nBRING FRIENDS, BRING NEIGHBORS,
  BRING FAMILY, BRING COLLEAGUES!M\n\nFor more information visit http:/
 /www.fairtaxnation.com/events/keep-this-saturday-free-for-a-rally-and-
 an-afternoon-of-fun-in
DTSTART;TZID=America/Cancun:20120505T120000
DTEND;TZID=America/Cancun:20120505T140000
CATEGORIES:rally
LOCATION:Mount Laurel District Office of Congressman Jon Runyan
WEBSITE:
URL:
CONTACT:(609) 828-1984
ORGANIZER:Doug Dash
ATTACH;FMTTYPE="image/jpeg":
ATTENDEE;ROLE=REQ-PARTICIPANT;PARTSTAT=ACCEPTED;RSVP=TRUE;CN="Jim Benn
 ett":http://www.fairtaxnation.com/profile/JimBennett
END:VEVENT
END:VCALENDAR
