BEGIN:VCALENDAR
PRODID:NingEventWidget-v1
VERSION:2.0
METHOD:PUBLISH
BEGIN:VTIMEZONE
TZID:America/Cancun
X-LIC-LOCATION:America/Cancun
BEGIN:DAYLIGHT
TZOFFSETFROM:-0600
TZOFFSETTO:-0500
TZNAME:CDT
DTSTART:19700405T020000
RRULE:FREQ=YEARLY;BYMONTH=4;BYDAY=1SU
END:DAYLIGHT
BEGIN:STANDARD
TZOFFSETFROM:-0500
TZOFFSETTO:-0600
TZNAME:CST
DTSTART:19701025T020000
RRULE:FREQ=YEARLY;BYMONTH=10;BYDAY=-1SU
END:STANDARD
END:VTIMEZONE
BEGIN:VEVENT
UID:2636007:Event:29758
DTSTAMP:20260424T033332Z
SUMMARY:Ken Hoagland, FairTax.org Radio Event Today, Friday,9 CST
DESCRIPTION:Special heads up notice for Fair Tax Nation Members and gu
 ests.\nKen Hoagland, National Communications Director of FairTax.org, 
 will be interviewed on the morning program with Dan River, on WKBN 570
  AM on Friday, March 6th. From the studios in Youngstown, Ohio.\nAt 9:
 05 AM CST and 10:05 AM Eastern.\nTune in on your computer to www.570wk
 bn.com to hear the streaming audio of this show about the Fair Tax.\nB
 e sure to use this great opportunity to hear the latest news direct fr
 om the top. Also invite guests and friends to introduce them to the Fa
 ir Tax.\nIt is important to tune in and for all of us to connect to th
 e streaming audio at the link listed. Your action will indicate high i
 nterest in the Fair Tax program. Let’s have a big turnout of listene
 rs and it could lead to bigger things. (Please see the blog about dona
 ting a few minutes each week\nhttp://fairtaxnation.ning.com/profiles/b
 logs/will-you-donate-a-few-minutes)\nThis announcement is a special se
 rvice arranged by FairTax Nation and FairTax.org\nCome to the site dai
 ly and look for these announcements.\n\nFor more information visit htt
 p://www.fairtaxnation.com/events/ken-hoagland-fairtaxorg-radio-2
DTSTART;TZID=America/Cancun:20090306T090000
DTEND;TZID=America/Cancun:20090306T093000
CATEGORIES:radio, interview
LOCATION:Youngstown, Ohio and your computer
WEBSITE:http://www.570wkbn.com
URL:http://www.570wkbn.com
CONTACT:
ORGANIZER:C. Jason McKinley, National Media Manager, FairTax.org
ATTACH;FMTTYPE="image/jpeg":http://storage.ning.com/topology/rest/1.0/
 file/get/1080576602?profile=original
ATTENDEE;ROLE=REQ-PARTICIPANT;PARTSTAT=ACCEPTED;RSVP=TRUE;CN="Fla Vol"
 :http://www.fairtaxnation.com/profile/StewRusby
END:VEVENT
END:VCALENDAR
