BEGIN:VCALENDAR
PRODID:NingEventWidget-v1
VERSION:2.0
METHOD:PUBLISH
BEGIN:VTIMEZONE
TZID:America/Cancun
X-LIC-LOCATION:America/Cancun
BEGIN:DAYLIGHT
TZOFFSETFROM:-0600
TZOFFSETTO:-0500
TZNAME:CDT
DTSTART:19700405T020000
RRULE:FREQ=YEARLY;BYMONTH=4;BYDAY=1SU
END:DAYLIGHT
BEGIN:STANDARD
TZOFFSETFROM:-0500
TZOFFSETTO:-0600
TZNAME:CST
DTSTART:19701025T020000
RRULE:FREQ=YEARLY;BYMONTH=10;BYDAY=-1SU
END:STANDARD
END:VTIMEZONE
BEGIN:VEVENT
UID:2636007:Event:18811
DTSTAMP:20260425T084436Z
SUMMARY:Let's make the difference
DESCRIPTION:A weekly fair tax radio show to help educate and let other
 s in the movement know what is happening in their and other areas. Thi
 s weeks guest will be Jim Tomasik from Fair Tax Nation.\n\nFor more in
 formation visit http://www.fairtaxnation.com/events/lets-make-the-diff
 erence
DTSTART;TZID=America/Cancun:20090219T180000
DTEND;TZID=America/Cancun:20090219T190000
CATEGORIES:internet, radio, "show."
LOCATION:www.blogtalkradio.com/luvmyfreedom
WEBSITE:http://www.blogtalkradio.com/luvmyfreedom
URL:http://www.blogtalkradio.com/luvmyfreedom
CONTACT:1-646-727-1655
ORGANIZER;CN="Marc Bohemier":http://www.fairtaxnation.com/profile/Marc
 Bohemier
ATTACH;FMTTYPE="image/jpeg":http://storage.ning.com/topology/rest/1.0/
 file/get/1080573482?profile=original
ATTENDEE;ROLE=REQ-PARTICIPANT;PARTSTAT=ACCEPTED;RSVP=TRUE;CN="Marc Boh
 emier":http://www.fairtaxnation.com/profile/MarcBohemier
END:VEVENT
END:VCALENDAR
