BEGIN:VCALENDAR
PRODID:NingEventWidget-v1
VERSION:2.0
METHOD:PUBLISH
BEGIN:VTIMEZONE
TZID:America/Cancun
X-LIC-LOCATION:America/Cancun
BEGIN:DAYLIGHT
TZOFFSETFROM:-0600
TZOFFSETTO:-0500
TZNAME:CDT
DTSTART:19700405T020000
RRULE:FREQ=YEARLY;BYMONTH=4;BYDAY=1SU
END:DAYLIGHT
BEGIN:STANDARD
TZOFFSETFROM:-0500
TZOFFSETTO:-0600
TZNAME:CST
DTSTART:19701025T020000
RRULE:FREQ=YEARLY;BYMONTH=10;BYDAY=-1SU
END:STANDARD
END:VTIMEZONE
BEGIN:VEVENT
UID:2636007:Event:65718
DTSTAMP:20260422T080214Z
SUMMARY:Mansfield July 4 Tea Party
DESCRIPTION:Mansfield – Saturday, July 4, 12 p.m. to 2 p.m., Central
  Park gazebo downtown, corner of Main Street and Park Avenue\n\nFor mo
 re information visit http://www.fairtaxnation.com/events/mansfield-jul
 y-4-tea-party
DTSTART;TZID=America/Cancun:20090704T120000
DTEND;TZID=America/Cancun:20090704T140000
CATEGORIES:tea, party
LOCATION:Corner of Main St. and Park Av.
WEBSITE:
URL:
CONTACT:
ORGANIZER:Mansfield Tea Partiers
ATTACH;FMTTYPE="image/jpeg":
ATTENDEE;ROLE=REQ-PARTICIPANT;PARTSTAT=ACCEPTED;RSVP=TRUE;CN="Nancy L.
  Gatchel":http://www.fairtaxnation.com/profile/NancyLGatchel
END:VEVENT
END:VCALENDAR
