BEGIN:VCALENDAR
PRODID:NingEventWidget-v1
VERSION:2.0
METHOD:PUBLISH
BEGIN:VTIMEZONE
TZID:America/Cancun
X-LIC-LOCATION:America/Cancun
BEGIN:DAYLIGHT
TZOFFSETFROM:-0600
TZOFFSETTO:-0500
TZNAME:CDT
DTSTART:19700405T020000
RRULE:FREQ=YEARLY;BYMONTH=4;BYDAY=1SU
END:DAYLIGHT
BEGIN:STANDARD
TZOFFSETFROM:-0500
TZOFFSETTO:-0600
TZNAME:CST
DTSTART:19701025T020000
RRULE:FREQ=YEARLY;BYMONTH=10;BYDAY=-1SU
END:STANDARD
END:VTIMEZONE
BEGIN:VEVENT
UID:2636007:Event:65720
DTSTAMP:20260422T103929Z
SUMMARY:Mansfield, OH Tea Party July 4
DESCRIPTION:Mansfield – Saturday, July 4, 10 a.m. to 12 p.m., Mansfi
 eld Motor Sports Speedway, 400 Crall Road East.\n\nRev up your engines
  and continue the protest against excessive spending and taxation with
  the Original Mansfield Tea Party. This is a family event, so kids (of
  all ages) should decorate their bicycles, tricyles, strollers, etc., 
 in red, white, and blue, and join in the parade on the racetrack! Visi
 t our website for continued updates on our events and critical legisla
 tion.\n\nmansfieldteaparty.com\n\nFor more information visit http://ww
 w.fairtaxnation.com/events/mansfield-oh-tea-party-july-4
DTSTART;TZID=America/Cancun:20090704T100000
DTEND;TZID=America/Cancun:20090704T120000
CATEGORIES:tea, party
LOCATION:Mansfield Motor Sports Speedway
WEBSITE:
URL:
CONTACT:419-961-4439
ORGANIZER:Marianne Gasiecki
ATTACH;FMTTYPE="image/jpeg":
END:VEVENT
END:VCALENDAR
