BEGIN:VCALENDAR
PRODID:NingEventWidget-v1
VERSION:2.0
METHOD:PUBLISH
BEGIN:VTIMEZONE
TZID:America/Cancun
X-LIC-LOCATION:America/Cancun
BEGIN:DAYLIGHT
TZOFFSETFROM:-0600
TZOFFSETTO:-0500
TZNAME:CDT
DTSTART:19700405T020000
RRULE:FREQ=YEARLY;BYMONTH=4;BYDAY=1SU
END:DAYLIGHT
BEGIN:STANDARD
TZOFFSETFROM:-0500
TZOFFSETTO:-0600
TZNAME:CST
DTSTART:19701025T020000
RRULE:FREQ=YEARLY;BYMONTH=10;BYDAY=-1SU
END:STANDARD
END:VTIMEZONE
BEGIN:VEVENT
UID:2636007:Event:167657
DTSTAMP:20260422T120020Z
SUMMARY:Mansfield (OH) Tea Party
DESCRIPTION:Mansfield Tea Party event:  Walid Shoebat  Former Muslim
  Brotherhood Member Now Peace Activist 5/7 @ 7 pm\nOur special event w
 ith Walid Shoebat is on Monday May 7, at 7 PM, at the Mid-Ohio Confere
 nce Center, 890 West Fourth Street, Mansfield, 44906.\nWe need volunte
 ers (male or female) to help at the tables where we hand out our free 
 literature, and sell our books and raffle tickets, and males to help w
 ith security.\n\nWe have hired professional security people to work at
  this event, but need a few men to scan attendees with handheld securi
 ty wands.\nLet me know if you're interested.\nBonnie Oleksa Mansfield 
 North Central Ohio Tea Party (The Nonpartisan Tea Party) Home phone: 
  419-687-6761 Web site:  Blood Of Patriots Facebook page:  Mansfield
  North Central Ohio Tea Party\n\n\n\n\n\nFor more information visit ht
 tp://www.fairtaxnation.com/events/mansfield-oh-tea-party
DTSTART;TZID=America/Cancun:20120507T190000
DTEND;TZID=America/Cancun:20120507T210000
CATEGORIES:tea, party, event
LOCATION:Mid-Ohio Conference Center
WEBSITE:http://Mansfield North Central Ohio Tea Party (BloodOfPatriots
 )
URL:http://Mansfield North Central Ohio Tea Party (BloodOfPatriots)
CONTACT:419-687-6761
ORGANIZER:Bonnie Oleksa
ATTACH;FMTTYPE="image/jpeg":
ATTENDEE;ROLE=REQ-PARTICIPANT;PARTSTAT=ACCEPTED;RSVP=TRUE;CN=Billie:ht
 tp://www.fairtaxnation.com/profile/Billie
END:VEVENT
END:VCALENDAR
