BEGIN:VCALENDAR
PRODID:NingEventWidget-v1
VERSION:2.0
METHOD:PUBLISH
BEGIN:VTIMEZONE
TZID:America/Cancun
X-LIC-LOCATION:America/Cancun
BEGIN:DAYLIGHT
TZOFFSETFROM:-0600
TZOFFSETTO:-0500
TZNAME:CDT
DTSTART:19700405T020000
RRULE:FREQ=YEARLY;BYMONTH=4;BYDAY=1SU
END:DAYLIGHT
BEGIN:STANDARD
TZOFFSETFROM:-0500
TZOFFSETTO:-0600
TZNAME:CST
DTSTART:19701025T020000
RRULE:FREQ=YEARLY;BYMONTH=10;BYDAY=-1SU
END:STANDARD
END:VTIMEZONE
BEGIN:VEVENT
UID:2636007:Event:134736
DTSTAMP:20260425T082500Z
SUMMARY:Many Hands Make Light Work-Kennewick FT Wrk Day
DESCRIPTION:OPEN HOUSE FT Supporters PREPARE 4 the TriCities Tea Party
  TAX DAY \"Introducing the FairTax\" Rally.\nPlease stop by and sign u
 p for helping on the day of the event, & various other tasks that need
  to be finished BEFORE April 15! \nStop by for 15min or 2hrs Many Han
 ds Make Light Work!\n \n \n\nFor more information visit http://www.f
 airtaxnation.com/events/many-hands-make-light
DTSTART;TZID=America/Cancun:20110409T140000
DTEND;TZID=America/Cancun:20110409T190000
CATEGORIES:work, day
LOCATION:Jamie Wheeler's home
WEBSITE:
URL:
CONTACT:586-7124
ORGANIZER;CN="Jamie Wheeler WA":http://www.fairtaxnation.com/profile/J
 amie
ATTACH;FMTTYPE="image/jpeg":http://storage.ning.com/topology/rest/1.0/
 file/get/1080604345?profile=original
ATTENDEE;ROLE=REQ-PARTICIPANT;PARTSTAT=ACCEPTED;RSVP=TRUE;CN="Ray Clis
 h":http://www.fairtaxnation.com/profile/RayClish
ATTENDEE;ROLE=REQ-PARTICIPANT;PARTSTAT=ACCEPTED;RSVP=TRUE;CN="Jessie W
 illoughby":http://www.fairtaxnation.com/profile/Jessie48
ATTENDEE;ROLE=REQ-PARTICIPANT;PARTSTAT=ACCEPTED;RSVP=TRUE;CN="Jamie Wh
 eeler WA":http://www.fairtaxnation.com/profile/Jamie
END:VEVENT
END:VCALENDAR
