BEGIN:VCALENDAR
PRODID:NingEventWidget-v1
VERSION:2.0
METHOD:PUBLISH
BEGIN:VTIMEZONE
TZID:America/Cancun
X-LIC-LOCATION:America/Cancun
BEGIN:DAYLIGHT
TZOFFSETFROM:-0600
TZOFFSETTO:-0500
TZNAME:CDT
DTSTART:19700405T020000
RRULE:FREQ=YEARLY;BYMONTH=4;BYDAY=1SU
END:DAYLIGHT
BEGIN:STANDARD
TZOFFSETFROM:-0500
TZOFFSETTO:-0600
TZNAME:CST
DTSTART:19701025T020000
RRULE:FREQ=YEARLY;BYMONTH=10;BYDAY=-1SU
END:STANDARD
END:VTIMEZONE
BEGIN:VEVENT
UID:2636007:Event:53382
DTSTAMP:20260424T024817Z
SUMMARY:March on Washington Sept. 12, 2009
DESCRIPTION:This march/protest/rally is not particularly about the Fai
 r Tax issue but it is a rally of 912 Project / Tea Party groups / and 
 other groups upset with what is happening to our country in general. M
 ost of these groups support a Fair Tax and would like you there rallyi
 ng along side of them at this history making event. Please go to http:
 /912dc.org or www.freedomworks.org to get full information or to sign 
 up.\n\nFor more information visit http://www.fairtaxnation.com/events/
 march-on-washington-sept-12
DTSTART;TZID=America/Cancun:20090912T080000
DTEND;TZID=America/Cancun:20090912T150000
CATEGORIES:"march/protest/rally"
LOCATION:Capital Building
WEBSITE:http://912dc.org
URL:http://912dc.org
CONTACT:
ORGANIZER:http://www.freedomworks.org
ATTACH;FMTTYPE="image/jpeg":http://storage.ning.com/topology/rest/1.0/
 file/get/1080582928?profile=original
ATTENDEE;ROLE=REQ-PARTICIPANT;PARTSTAT=ACCEPTED;RSVP=TRUE;CN=Don:http:
 //www.fairtaxnation.com/profile/Don874
END:VEVENT
END:VCALENDAR
