BEGIN:VCALENDAR
PRODID:NingEventWidget-v1
VERSION:2.0
METHOD:PUBLISH
BEGIN:VTIMEZONE
TZID:America/Cancun
X-LIC-LOCATION:America/Cancun
BEGIN:DAYLIGHT
TZOFFSETFROM:-0600
TZOFFSETTO:-0500
TZNAME:CDT
DTSTART:19700405T020000
RRULE:FREQ=YEARLY;BYMONTH=4;BYDAY=1SU
END:DAYLIGHT
BEGIN:STANDARD
TZOFFSETFROM:-0500
TZOFFSETTO:-0600
TZNAME:CST
DTSTART:19701025T020000
RRULE:FREQ=YEARLY;BYMONTH=10;BYDAY=-1SU
END:STANDARD
END:VTIMEZONE
BEGIN:VEVENT
UID:2636007:Event:59625
DTSTAMP:20260421T202148Z
SUMMARY:Marion, OH Fair Tax Meeting
DESCRIPTION:Fair Tax HR 25 / S 296 education and support. Public welco
 me.\n\nFor more information visit http://www.fairtaxnation.com/events/
 marion-oh-fair-tax-meeting-1
DTSTART;TZID=America/Cancun:20090623T190000
DTEND;TZID=America/Cancun:20090623T200000
CATEGORIES:monthly, meeting
LOCATION:Marion Public Library
WEBSITE:
URL:
CONTACT:740-386-5313
ORGANIZER;CN="Nancy L. Gatchel":http://www.fairtaxnation.com/profile/N
 ancyLGatchel
ATTACH;FMTTYPE="image/jpeg":
ATTENDEE;ROLE=REQ-PARTICIPANT;PARTSTAT=ACCEPTED;RSVP=TRUE;CN="Angela W
 illiams":http://www.fairtaxnation.com/profile/AngelaWilliams
ATTENDEE;ROLE=REQ-PARTICIPANT;PARTSTAT=ACCEPTED;RSVP=TRUE;CN="Nancy L.
  Gatchel":http://www.fairtaxnation.com/profile/NancyLGatchel
ATTENDEE;ROLE=REQ-PARTICIPANT;PARTSTAT=TENTATIVE;RSVP=TRUE;CN="Phil Cl
 aypool":http://www.fairtaxnation.com/profile/Phil
END:VEVENT
END:VCALENDAR
