BEGIN:VCALENDAR
PRODID:NingEventWidget-v1
VERSION:2.0
METHOD:PUBLISH
BEGIN:VTIMEZONE
TZID:America/Cancun
X-LIC-LOCATION:America/Cancun
BEGIN:DAYLIGHT
TZOFFSETFROM:-0600
TZOFFSETTO:-0500
TZNAME:CDT
DTSTART:19700405T020000
RRULE:FREQ=YEARLY;BYMONTH=4;BYDAY=1SU
END:DAYLIGHT
BEGIN:STANDARD
TZOFFSETFROM:-0500
TZOFFSETTO:-0600
TZNAME:CST
DTSTART:19701025T020000
RRULE:FREQ=YEARLY;BYMONTH=10;BYDAY=-1SU
END:STANDARD
END:VTIMEZONE
BEGIN:VEVENT
UID:2636007:Event:66617
DTSTAMP:20260421T142134Z
SUMMARY:Marion OH Fair Tax Meeting
DESCRIPTION:Informational meeting first part of meeting, followed by s
 trategy meeting.\n\nFor more information visit http://www.fairtaxnatio
 n.com/events/marion-oh-fair-tax-meeting-2
DTSTART;TZID=America/Cancun:20090721T190000
DTEND;TZID=America/Cancun:20090721T200000
CATEGORIES:fair, tax, meeting
LOCATION:Marion Public Library
WEBSITE:
URL:
CONTACT:740-386-5313
ORGANIZER;CN="Nancy L. Gatchel":http://www.fairtaxnation.com/profile/N
 ancyLGatchel
ATTACH;FMTTYPE="image/jpeg":
ATTENDEE;ROLE=REQ-PARTICIPANT;PARTSTAT=ACCEPTED;RSVP=TRUE;CN="Nancy L.
  Gatchel":http://www.fairtaxnation.com/profile/NancyLGatchel
END:VEVENT
END:VCALENDAR
