BEGIN:VCALENDAR
PRODID:NingEventWidget-v1
VERSION:2.0
METHOD:PUBLISH
BEGIN:VTIMEZONE
TZID:America/Cancun
X-LIC-LOCATION:America/Cancun
BEGIN:DAYLIGHT
TZOFFSETFROM:-0600
TZOFFSETTO:-0500
TZNAME:CDT
DTSTART:19700405T020000
RRULE:FREQ=YEARLY;BYMONTH=4;BYDAY=1SU
END:DAYLIGHT
BEGIN:STANDARD
TZOFFSETFROM:-0500
TZOFFSETTO:-0600
TZNAME:CST
DTSTART:19701025T020000
RRULE:FREQ=YEARLY;BYMONTH=10;BYDAY=-1SU
END:STANDARD
END:VTIMEZONE
BEGIN:VEVENT
UID:2636007:Event:165496
DTSTAMP:20260423T214759Z
SUMMARY:Marion (OH) FairTax Meeting
DESCRIPTION:Nancy Gatchel is having a FairTax meetingWhen Thu Apr 5 fr
 om 7pm – 8pm Eastern Time Where: Marion Public Library\n\nFor more 
 information visit http://www.fairtaxnation.com/events/marion-oh-fairta
 x-meeting
DTSTART;TZID=America/Cancun:20120405T190000
DTEND;TZID=America/Cancun:20120405T200000
CATEGORIES:fairtax, meeting
LOCATION:Marion Public Library
WEBSITE:http://OHFairTax.org
URL:http://OHFairTax.org
CONTACT:
ORGANIZER:Nancy Gatchel
ATTACH;FMTTYPE="image/jpeg":
ATTENDEE;ROLE=REQ-PARTICIPANT;PARTSTAT=ACCEPTED;RSVP=TRUE;CN=Billie:ht
 tp://www.fairtaxnation.com/profile/Billie
END:VEVENT
END:VCALENDAR
