BEGIN:VCALENDAR
PRODID:NingEventWidget-v1
VERSION:2.0
METHOD:PUBLISH
BEGIN:VTIMEZONE
TZID:America/Cancun
X-LIC-LOCATION:America/Cancun
BEGIN:DAYLIGHT
TZOFFSETFROM:-0600
TZOFFSETTO:-0500
TZNAME:CDT
DTSTART:19700405T020000
RRULE:FREQ=YEARLY;BYMONTH=4;BYDAY=1SU
END:DAYLIGHT
BEGIN:STANDARD
TZOFFSETFROM:-0500
TZOFFSETTO:-0600
TZNAME:CST
DTSTART:19701025T020000
RRULE:FREQ=YEARLY;BYMONTH=10;BYDAY=-1SU
END:STANDARD
END:VTIMEZONE
BEGIN:VEVENT
UID:2636007:Event:36297
DTSTAMP:20260424T102622Z
SUMMARY:Monthly Conference Call
DESCRIPTION:The Ohio regular Monthly Conference Call will be Thur. Apr
 il 2nd at 8:15 p.m. Eastern time. The call in number is 1-218-486-8700
  access code is 163016.\n\nFor more information visit http://www.fairt
 axnation.com/events/monthly-conference-call
DTSTART;TZID=America/Cancun:20090402T201500
DTEND;TZID=America/Cancun:20090402T210000
CATEGORIES:conference, call
LOCATION:Your Phone
WEBSITE:
URL:
CONTACT:937-403-3048 my cell not the call in number
ORGANIZER;CN="Dave Sibole":http://www.fairtaxnation.com/profile/DaveSi
 bole
ATTACH;FMTTYPE="image/jpeg":
ATTENDEE;ROLE=REQ-PARTICIPANT;PARTSTAT=ACCEPTED;RSVP=TRUE;CN="Phil Cla
 ypool":http://www.fairtaxnation.com/profile/Phil
ATTENDEE;ROLE=REQ-PARTICIPANT;PARTSTAT=ACCEPTED;RSVP=TRUE;CN="Dave Sib
 ole":http://www.fairtaxnation.com/profile/DaveSibole
END:VEVENT
END:VCALENDAR
