BEGIN:VCALENDAR
PRODID:NingEventWidget-v1
VERSION:2.0
METHOD:PUBLISH
BEGIN:VTIMEZONE
TZID:America/Cancun
X-LIC-LOCATION:America/Cancun
BEGIN:DAYLIGHT
TZOFFSETFROM:-0600
TZOFFSETTO:-0500
TZNAME:CDT
DTSTART:19700405T020000
RRULE:FREQ=YEARLY;BYMONTH=4;BYDAY=1SU
END:DAYLIGHT
BEGIN:STANDARD
TZOFFSETFROM:-0500
TZOFFSETTO:-0600
TZNAME:CST
DTSTART:19701025T020000
RRULE:FREQ=YEARLY;BYMONTH=10;BYDAY=-1SU
END:STANDARD
END:VTIMEZONE
BEGIN:VEVENT
UID:2636007:Event:91823
DTSTAMP:20260422T233500Z
SUMMARY:Monthly Webinar Series: Understanding the FairTax
DESCRIPTION:WHAT: Understanding the FairTax webinar for Jan., 2010 and
 \n\nSPECIAL TOPIC: Stability of a Consumption Tax vs. an Income Tax\n\
 nWHEN: Thursday Jan. 28, 2010\n\nTIME: 8 â€“ 8:45pm Eastern Time\n7 â€
 “ 7:45pm Central, 6 â€“ 6:45 Mountain, 5 â€“ 5:45 Pacific\n\nWHERE: Yo
 ur home, your Personal Computer\n\nWHY: To provide an interactive foru
 m for people who cannot get to local meetings to learn about the FairT
 ax and to present Special Topics that are frequently misunderstood or 
 not generally discussed. Education is the weapon of the FairTax grassr
 oots organizations and we are Educating the Nation on the web.\n\n2010
  is a pivotal year with extremely important mid term elections. We hav
 e a window from now until the end of October to educate enough people 
 about the FairTax to get candidates who are FairTax supporters elected
 .\n\nJoin Marc Manieri, Americans For Taxation Community Coordinator i
 n the Greater Orlando, Florida Area. Marcâ€™s webinars are drawing nat
 ional participation from seasoned FairTax supporters as well as those 
 just getting started as a supporter. We help build the knowledge base 
 of those on the front lines as well as those wanting to know what the 
 FairTax is about. We educate candidates and sitting Congressional Repr
 esentatives on the merits of the FairTax.\n\nMany participants have as
 ked Marc if the presentation is available to them. The answer is yes. 
 Marc sends an email to each participant following the webinar. Just re
 ply asking for the Power Point presentation and notes. Marc will email
  it to you.\n\nTo participate it is necessary to pre-register at this 
 web link\nhttps://www2.gotomeeting.com/register/624524778\n\nYou will 
 receive a confirmation email with instructions for signing in at the t
 ime of the Webinar.\nFor additional information contact Marc Manieri, 
 407-719-5117.\n\nFor more information visit http://www.fairtaxnation.c
 om/events/monthly-webinar-series
DTSTART;TZID=America/Cancun:20100128T200000
DTEND;TZID=America/Cancun:20100128T204500
CATEGORIES:webinar-an, iternet, classroom
LOCATION:Your Home or Office, Your Computer
WEBSITE:https://www2.gotomeeting.com/register/624524778
URL:https://www2.gotomeeting.com/register/624524778
CONTACT:407/719-5117
ORGANIZER:Larry Walters & Marc Manieri
ATTACH;FMTTYPE="image/jpeg":
ATTENDEE;ROLE=REQ-PARTICIPANT;PARTSTAT=ACCEPTED;RSVP=TRUE;CN="Larry Wa
 lters":http://www.fairtaxnation.com/profile/LarryWalters
END:VEVENT
END:VCALENDAR
