BEGIN:VCALENDAR
PRODID:NingEventWidget-v1
VERSION:2.0
METHOD:PUBLISH
BEGIN:VTIMEZONE
TZID:America/Cancun
X-LIC-LOCATION:America/Cancun
BEGIN:DAYLIGHT
TZOFFSETFROM:-0600
TZOFFSETTO:-0500
TZNAME:CDT
DTSTART:19700405T020000
RRULE:FREQ=YEARLY;BYMONTH=4;BYDAY=1SU
END:DAYLIGHT
BEGIN:STANDARD
TZOFFSETFROM:-0500
TZOFFSETTO:-0600
TZNAME:CST
DTSTART:19701025T020000
RRULE:FREQ=YEARLY;BYMONTH=10;BYDAY=-1SU
END:STANDARD
END:VTIMEZONE
BEGIN:VEVENT
UID:2636007:Event:55099
DTSTAMP:20260421T183841Z
SUMMARY:Murphreesboro TN FairTax Rally
DESCRIPTION:Join us at Bumpus Harley-Davidson of Murfreesboro\n2250 NW
  Broad Street, Murfreesboro, TN on the heels of the TN Hog Rally for a
 n afternoon of FairTax Fun. Details to be announced\n\nFor more inform
 ation visit http://www.fairtaxnation.com/events/murphreesboro-tn-fairt
 ax-rally
DTSTART;TZID=America/Cancun:20090607T150000
DTEND;TZID=America/Cancun:20090607T170000
CATEGORIES:rally
LOCATION:Bumpus Harley-Davidson of Murfreesboro
WEBSITE:
URL:
CONTACT:
ORGANIZER;CN="Carol Adams McLean":http://www.fairtaxnation.com/profile
 /CarolAdamsMcLean
ATTACH;FMTTYPE="image/jpeg":http://storage.ning.com/topology/rest/1.0/
 file/get/1080584638?profile=original
ATTENDEE;ROLE=REQ-PARTICIPANT;PARTSTAT=ACCEPTED;RSVP=TRUE;CN="Carol Ad
 ams McLean":http://www.fairtaxnation.com/profile/CarolAdamsMcLean
END:VEVENT
END:VCALENDAR
