BEGIN:VCALENDAR
PRODID:NingEventWidget-v1
VERSION:2.0
METHOD:PUBLISH
BEGIN:VTIMEZONE
TZID:America/Cancun
X-LIC-LOCATION:America/Cancun
BEGIN:DAYLIGHT
TZOFFSETFROM:-0600
TZOFFSETTO:-0500
TZNAME:CDT
DTSTART:19700405T020000
RRULE:FREQ=YEARLY;BYMONTH=4;BYDAY=1SU
END:DAYLIGHT
BEGIN:STANDARD
TZOFFSETFROM:-0500
TZOFFSETTO:-0600
TZNAME:CST
DTSTART:19701025T020000
RRULE:FREQ=YEARLY;BYMONTH=10;BYDAY=-1SU
END:STANDARD
END:VTIMEZONE
BEGIN:VEVENT
UID:2636007:Event:29887
DTSTAMP:20260421T043805Z
SUMMARY:National Radio interview with Ken Hoagland-your computer
DESCRIPTION:Special heads up notice for Fair Tax Nation Members and gu
 ests.\nKen Hoagland, National Communications Director of FairTax.org, 
 will be interviewed on the popular morning program with Moon Griffon, 
 on National Radio on your computer on Tuesday, March 10th at 10:00 AM 
 CDT and 11:00 AM Eastern.\n\nTune in on your computer to www.moongriff
 on.com to hear the streaming audio of this show about the Fair Tax.\n\
 nBe sure to use this great opportunity to hear the latest news direct 
 from the top. Also invite guests and friends to introduce them to the 
 Fair Tax.\nIt is important to tune in and for all of us to connect to 
 the streaming audio at the link listed. Your action will indicate high
  interest in the Fair Tax program. Let’s have a big turnout of liste
 ners and it could lead to bigger things. (Please see the blog about do
 nating a few minutes each week\n\nhttp://fairtaxnation.ning.com/profil
 es/blogs/will-you-donate-a-few-minutes)\nThis announcement is a specia
 l service arranged by FairTax Nation and FairTax.org\nCome to the site
  daily and look for these announcements.\n\nFor more information visit
  http://www.fairtaxnation.com/events/national-radio-interview-with
DTSTART;TZID=America/Cancun:20090310T100000
DTEND;TZID=America/Cancun:20090310T103000
CATEGORIES:radio, interview
LOCATION:National-on your computer
WEBSITE:http://www.moongriffon.com
URL:http://www.moongriffon.com
CONTACT:
ORGANIZER:C. Jason McKinley, National Media Manager, FairTax.org
ATTACH;FMTTYPE="image/jpeg":http://storage.ning.com/topology/rest/1.0/
 file/get/1080576531?profile=original
ATTENDEE;ROLE=REQ-PARTICIPANT;PARTSTAT=ACCEPTED;RSVP=TRUE;CN="Fla Vol"
 :http://www.fairtaxnation.com/profile/StewRusby
END:VEVENT
END:VCALENDAR
