BEGIN:VCALENDAR
PRODID:NingEventWidget-v1
VERSION:2.0
METHOD:PUBLISH
BEGIN:VTIMEZONE
TZID:America/Cancun
X-LIC-LOCATION:America/Cancun
BEGIN:DAYLIGHT
TZOFFSETFROM:-0600
TZOFFSETTO:-0500
TZNAME:CDT
DTSTART:19700405T020000
RRULE:FREQ=YEARLY;BYMONTH=4;BYDAY=1SU
END:DAYLIGHT
BEGIN:STANDARD
TZOFFSETFROM:-0500
TZOFFSETTO:-0600
TZNAME:CST
DTSTART:19701025T020000
RRULE:FREQ=YEARLY;BYMONTH=10;BYDAY=-1SU
END:STANDARD
END:VTIMEZONE
BEGIN:VEVENT
UID:2636007:Event:58630
DTSTAMP:20260421T125405Z
SUMMARY:National Taxpayers Conference, Booth Washington DC
DESCRIPTION:Friday, June 12 - Exhibit Hall set up 6:00am-8:45am, Exhib
 it Hall opens 9:00am\n\nSaturday, June 12 - Exhibit Hall open 8:00am -
  12 noon\n\nFor more information visit http://www.fairtaxnation.com/ev
 ents/national-taxpayers-conference
DTSTART;TZID=America/Cancun:20090611T170000
DTEND;TZID=America/Cancun:20090613T130000
CATEGORIES:booth, dc
LOCATION:Hyatt Regency Crystal City Hotel @ Regan Airport
WEBSITE:http://www.ntu.org
URL:http://www.ntu.org
CONTACT:1-703-418-1234
ORGANIZER:Jim Tomasik
ATTACH;FMTTYPE="image/jpeg":http://storage.ning.com/topology/rest/1.0/
 file/get/1080585103?profile=original
ATTENDEE;ROLE=REQ-PARTICIPANT;PARTSTAT=ACCEPTED;RSVP=TRUE;CN="Sean Fag
 an":http://www.fairtaxnation.com/profile/Sean
ATTENDEE;ROLE=REQ-PARTICIPANT;PARTSTAT=ACCEPTED;RSVP=TRUE;CN="Marilyn 
 Rickert":http://www.fairtaxnation.com/profile/Marilyn
END:VEVENT
END:VCALENDAR
