BEGIN:VCALENDAR
PRODID:NingEventWidget-v1
VERSION:2.0
METHOD:PUBLISH
BEGIN:VTIMEZONE
TZID:America/Cancun
X-LIC-LOCATION:America/Cancun
BEGIN:DAYLIGHT
TZOFFSETFROM:-0600
TZOFFSETTO:-0500
TZNAME:CDT
DTSTART:19700405T020000
RRULE:FREQ=YEARLY;BYMONTH=4;BYDAY=1SU
END:DAYLIGHT
BEGIN:STANDARD
TZOFFSETFROM:-0500
TZOFFSETTO:-0600
TZNAME:CST
DTSTART:19701025T020000
RRULE:FREQ=YEARLY;BYMONTH=10;BYDAY=-1SU
END:STANDARD
END:VTIMEZONE
BEGIN:VEVENT
UID:2636007:Event:21283
DTSTAMP:20260422T223342Z
SUMMARY:NC District 2 meeting in Sanford, NC
DESCRIPTION:We will meet to discuss the FairTax, post office rallies a
 nd if we should have monthly meetings.\nPlease plan to attend.\n\nFor 
 more information visit http://www.fairtaxnation.com/events/nc-district
 -2-meeting-in
DTSTART;TZID=America/Cancun:20090317T190000
DTEND;TZID=America/Cancun:20090317T200000
CATEGORIES:meeting
LOCATION:Golden Corral
WEBSITE:
URL:
CONTACT:(919) 775-3295
ORGANIZER;CN="Mike Pool":http://www.fairtaxnation.com/profile/MikePool
ATTACH;FMTTYPE="image/jpeg":http://storage.ning.com/topology/rest/1.0/
 file/get/1080575086?profile=original
ATTENDEE;ROLE=REQ-PARTICIPANT;PARTSTAT=ACCEPTED;RSVP=TRUE;CN="Marty Ge
 nzlinger":http://www.fairtaxnation.com/profile/MartyGenzlinger
ATTENDEE;ROLE=REQ-PARTICIPANT;PARTSTAT=ACCEPTED;RSVP=TRUE;CN="Bill & K
 aran":http://www.fairtaxnation.com/profile/BillKaran
ATTENDEE;ROLE=REQ-PARTICIPANT;PARTSTAT=ACCEPTED;RSVP=TRUE;CN="Mike Poo
 l":http://www.fairtaxnation.com/profile/MikePool
ATTENDEE;ROLE=REQ-PARTICIPANT;PARTSTAT=TENTATIVE;RSVP=TRUE;CN="Jeff Ba
 ss":http://www.fairtaxnation.com/profile/JeffBass
ATTENDEE;ROLE=REQ-PARTICIPANT;PARTSTAT=TENTATIVE;RSVP=TRUE;CN="Joy W P
 aul":http://www.fairtaxnation.com/profile/JoyWPaul
END:VEVENT
END:VCALENDAR
