BEGIN:VCALENDAR
PRODID:NingEventWidget-v1
VERSION:2.0
METHOD:PUBLISH
BEGIN:VTIMEZONE
TZID:America/Cancun
X-LIC-LOCATION:America/Cancun
BEGIN:DAYLIGHT
TZOFFSETFROM:-0600
TZOFFSETTO:-0500
TZNAME:CDT
DTSTART:19700405T020000
RRULE:FREQ=YEARLY;BYMONTH=4;BYDAY=1SU
END:DAYLIGHT
BEGIN:STANDARD
TZOFFSETFROM:-0500
TZOFFSETTO:-0600
TZNAME:CST
DTSTART:19701025T020000
RRULE:FREQ=YEARLY;BYMONTH=10;BYDAY=-1SU
END:STANDARD
END:VTIMEZONE
BEGIN:VEVENT
UID:2636007:Event:67046
DTSTAMP:20260421T174142Z
SUMMARY:NC GOP First Congressional District Executive Meeting
DESCRIPTION:Executive Committee Meeting, All county chairs and vice ch
 airs as well as at large members may attend and vote.\n\nFor more info
 rmation visit http://www.fairtaxnation.com/events/nc-gop-first-congres
 sional
DTSTART;TZID=America/Cancun:20090718T110000
DTEND;TZID=America/Cancun:20090718T130000
CATEGORIES:meeting
LOCATION:Hitchen Post Resturant
WEBSITE:
URL:
CONTACT:
ORGANIZER;CN="Brad Fields":http://www.fairtaxnation.com/profile/BradFi
 elds
ATTACH;FMTTYPE="image/jpeg":
ATTENDEE;ROLE=REQ-PARTICIPANT;PARTSTAT=ACCEPTED;RSVP=TRUE;CN="Brad Fie
 lds":http://www.fairtaxnation.com/profile/BradFields
END:VEVENT
END:VCALENDAR
