BEGIN:VCALENDAR
PRODID:NingEventWidget-v1
VERSION:2.0
METHOD:PUBLISH
BEGIN:VTIMEZONE
TZID:America/Cancun
X-LIC-LOCATION:America/Cancun
BEGIN:DAYLIGHT
TZOFFSETFROM:-0600
TZOFFSETTO:-0500
TZNAME:CDT
DTSTART:19700405T020000
RRULE:FREQ=YEARLY;BYMONTH=4;BYDAY=1SU
END:DAYLIGHT
BEGIN:STANDARD
TZOFFSETFROM:-0500
TZOFFSETTO:-0600
TZNAME:CST
DTSTART:19701025T020000
RRULE:FREQ=YEARLY;BYMONTH=10;BYDAY=-1SU
END:STANDARD
END:VTIMEZONE
BEGIN:VEVENT
UID:2636007:Event:45410
DTSTAMP:20260421T082627Z
SUMMARY:NC-11 Republican Convention
DESCRIPTION:We have been offered a table at this event but I am not pe
 rsonally available to work it. Please let me know asap if you would be
  willing to volunteer to staff our table or we will have to forgoe the
  opportunity. I can provide all necessary supplies. It would be great 
 if we could get some volunteers who live in Haywood County for this.\n
 (I am working to secure tables at NC-11 Democratic events but this is 
 harder to secure. Any help is appreciated!)\n\nFor more information vi
 sit http://www.fairtaxnation.com/events/nc11-republican-convention
DTSTART;TZID=America/Cancun:20090425T083000
DTEND;TZID=America/Cancun:20090425T130000
CATEGORIES:"convention.", lunches, will, be, "provided.", "$10", cost,
  to, attend
LOCATION:Haywood Community College Auditorium
WEBSITE:http://maps.google.com/maps?hl=en&q=Haywood+Community+College+
 Auditorium&ie=UTF8&sll=36.588311,-99.731852&sspn=4.696520,44.741614&la
 tlng=35527214,-82930178,15608902913331398648&ei=AOjpSdHkCIO2M5zhxdIB&c
 d=1
URL:http://maps.google.com/maps?hl=en&q=Haywood+Community+College+Audi
 torium&ie=UTF8&sll=36.588311,-99.731852&sspn=4.696520,44.741614&latlng
 =35527214,-82930178,15608902913331398648&ei=AOjpSdHkCIO2M5zhxdIB&cd=1
CONTACT:828-274-7844       laura.mccue@ncfairtax.org
ORGANIZER;CN="Laura McCue":http://www.fairtaxnation.com/profile/LauraM
 cCue
ATTACH;FMTTYPE="image/jpeg":
ATTENDEE;ROLE=REQ-PARTICIPANT;PARTSTAT=ACCEPTED;RSVP=TRUE;CN="David Sh
 ipp":http://www.fairtaxnation.com/profile/DavidShipp
ATTENDEE;ROLE=REQ-PARTICIPANT;PARTSTAT=ACCEPTED;RSVP=TRUE;CN="Carol Ad
 ams McLean":http://www.fairtaxnation.com/profile/CarolAdamsMcLean
ATTENDEE;ROLE=REQ-PARTICIPANT;PARTSTAT=ACCEPTED;RSVP=TRUE;CN="Laura Mc
 Cue":http://www.fairtaxnation.com/profile/LauraMcCue
END:VEVENT
END:VCALENDAR
