BEGIN:VCALENDAR
PRODID:NingEventWidget-v1
VERSION:2.0
METHOD:PUBLISH
BEGIN:VTIMEZONE
TZID:America/Cancun
X-LIC-LOCATION:America/Cancun
BEGIN:DAYLIGHT
TZOFFSETFROM:-0600
TZOFFSETTO:-0500
TZNAME:CDT
DTSTART:19700405T020000
RRULE:FREQ=YEARLY;BYMONTH=4;BYDAY=1SU
END:DAYLIGHT
BEGIN:STANDARD
TZOFFSETFROM:-0500
TZOFFSETTO:-0600
TZNAME:CST
DTSTART:19701025T020000
RRULE:FREQ=YEARLY;BYMONTH=10;BYDAY=-1SU
END:STANDARD
END:VTIMEZONE
BEGIN:VEVENT
UID:2636007:Event:135248
DTSTAMP:20260425T095052Z
SUMMARY:New FairTax Radio show!
DESCRIPTION:Listen in on my FairTax Radio show, \"The FairTaxGodfather
  Tax reform Hour\" each Tues @9pn EDT. My SPECIAL GUEST this week Apr 
 12, 2011 is Mark Gupton, Managing Director, Florida FairTax Educationa
 l Assn. We will discuss what is needed to make the FairTax law from an
  education prospective. You can listen on the internet at www.BlogTalk
 Radio.com/taxreformhour or by phone at 760-259-2716. Press 1 to join t
 he show. Please listen in!\n\nFor more information visit http://www.fa
 irtaxnation.com/events/new-fairtax-radio-show
DTSTART;TZID=America/Cancun:20110412T210000
DTEND;TZID=America/Cancun:20110412T220000
CATEGORIES:radio, show
LOCATION:www.BlogTalkRadio.com/TaxReformHour
WEBSITE:
URL:
CONTACT:
ORGANIZER;CN="Rich G":http://www.fairtaxnation.com/profile/RichG
ATTACH;FMTTYPE="image/jpeg":http://storage.ning.com/topology/rest/1.0/
 file/get/1080605049?profile=original
ATTENDEE;ROLE=REQ-PARTICIPANT;PARTSTAT=ACCEPTED;RSVP=TRUE;CN="Rich G":
 http://www.fairtaxnation.com/profile/RichG
END:VEVENT
END:VCALENDAR
