BEGIN:VCALENDAR
PRODID:NingEventWidget-v1
VERSION:2.0
METHOD:PUBLISH
BEGIN:VTIMEZONE
TZID:America/Cancun
X-LIC-LOCATION:America/Cancun
BEGIN:DAYLIGHT
TZOFFSETFROM:-0600
TZOFFSETTO:-0500
TZNAME:CDT
DTSTART:19700405T020000
RRULE:FREQ=YEARLY;BYMONTH=4;BYDAY=1SU
END:DAYLIGHT
BEGIN:STANDARD
TZOFFSETFROM:-0500
TZOFFSETTO:-0600
TZNAME:CST
DTSTART:19701025T020000
RRULE:FREQ=YEARLY;BYMONTH=10;BYDAY=-1SU
END:STANDARD
END:VTIMEZONE
BEGIN:VEVENT
UID:2636007:Event:25745
DTSTAMP:20260421T125354Z
SUMMARY:North Carolina Republican State Convention
DESCRIPTION:Please pencil in these dates for the North Carolina State 
 Convention in Raleigh NC. As members of the NC District 4 group, this 
 is a great opportunity to show that we can all come out to support the
  fairtax. This year, the convention will be held at the Raleigh Conven
 tion Center.\n\nThe NC FairTax board is currently working on obtaining
  a table in the vendors area to distribute materials and spread the wo
 rd about the Fair Tax.\n\n...Watch this space for more details ....\n\
 nFor more information visit http://www.fairtaxnation.com/events/north-
 carolina-republican
DTSTART;TZID=America/Cancun:20090612T160000
DTEND;TZID=America/Cancun:20090614T160000
CATEGORIES:political, convention
LOCATION:Raleigh Convention Center
WEBSITE:http://maps.google.com/maps?oe=UTF-8&ie=UTF8&q=raleigh+convent
 ion+center&fb=1&split=1&gl=us&cid=0,0,7530257666033349338&ei=3rqkSaoLi
 qG3B5r2ydIE&z=16&iwloc=A
URL:http://maps.google.com/maps?oe=UTF-8&ie=UTF8&q=raleigh+convention+
 center&fb=1&split=1&gl=us&cid=0,0,7530257666033349338&ei=3rqkSaoLiqG3B
 5r2ydIE&z=16&iwloc=A
CONTACT:
ORGANIZER;CN="Michael Patton":http://www.fairtaxnation.com/profile/Mic
 haelPatton
ATTACH;FMTTYPE="image/jpeg":http://storage.ning.com/topology/rest/1.0/
 file/get/1080575018?profile=original
ATTENDEE;ROLE=REQ-PARTICIPANT;PARTSTAT=ACCEPTED;RSVP=TRUE;CN="John N. 
 Underwood":http://www.fairtaxnation.com/profile/JohnNUnderwood
ATTENDEE;ROLE=REQ-PARTICIPANT;PARTSTAT=ACCEPTED;RSVP=TRUE;CN="Michael 
 Patton":http://www.fairtaxnation.com/profile/MichaelPatton
ATTENDEE;ROLE=REQ-PARTICIPANT;PARTSTAT=TENTATIVE;RSVP=TRUE;CN=Joshua:h
 ttp://www.fairtaxnation.com/profile/Joshua
END:VEVENT
END:VCALENDAR
