BEGIN:VCALENDAR
PRODID:NingEventWidget-v1
VERSION:2.0
METHOD:PUBLISH
BEGIN:VTIMEZONE
TZID:America/Cancun
X-LIC-LOCATION:America/Cancun
BEGIN:DAYLIGHT
TZOFFSETFROM:-0600
TZOFFSETTO:-0500
TZNAME:CDT
DTSTART:19700405T020000
RRULE:FREQ=YEARLY;BYMONTH=4;BYDAY=1SU
END:DAYLIGHT
BEGIN:STANDARD
TZOFFSETFROM:-0500
TZOFFSETTO:-0600
TZNAME:CST
DTSTART:19701025T020000
RRULE:FREQ=YEARLY;BYMONTH=10;BYDAY=-1SU
END:STANDARD
END:VTIMEZONE
BEGIN:VEVENT
UID:2636007:Event:23330
DTSTAMP:20260424T045244Z
SUMMARY:Ohio Conference Call
DESCRIPTION:This is for all Ohioans. I have 20 lines reserved but if t
 here are open lines and you are not a buckeye feel free to join us. Ca
 ll in number is 1-218-486-8700 access code is 163016.\n\nFor more info
 rmation visit http://www.fairtaxnation.com/events/ohio-conference-call
 -1
DTSTART;TZID=America/Cancun:20090305T201500
DTEND;TZID=America/Cancun:20090305T210000
CATEGORIES:monthly, conference, call
LOCATION:Your phone
WEBSITE:
URL:
CONTACT:937-403-3048 My cell not the call in #
ORGANIZER;CN="Dave Sibole":http://www.fairtaxnation.com/profile/DaveSi
 bole
ATTACH;FMTTYPE="image/jpeg":http://storage.ning.com/topology/rest/1.0/
 file/get/1080574766?profile=original
ATTENDEE;ROLE=REQ-PARTICIPANT;PARTSTAT=ACCEPTED;RSVP=TRUE;CN="Josh Gre
 gg":http://www.fairtaxnation.com/profile/JoshGregg
ATTENDEE;ROLE=REQ-PARTICIPANT;PARTSTAT=ACCEPTED;RSVP=TRUE;CN="Phil Cla
 ypool":http://www.fairtaxnation.com/profile/Phil
ATTENDEE;ROLE=REQ-PARTICIPANT;PARTSTAT=ACCEPTED;RSVP=TRUE;CN="Scott Ba
 nkston":http://www.fairtaxnation.com/profile/ScottBankston
ATTENDEE;ROLE=REQ-PARTICIPANT;PARTSTAT=ACCEPTED;RSVP=TRUE;CN="Dave Sib
 ole":http://www.fairtaxnation.com/profile/DaveSibole
ATTENDEE;ROLE=REQ-PARTICIPANT;PARTSTAT=TENTATIVE;RSVP=TRUE;CN="Marilyn
  Rickert":http://www.fairtaxnation.com/profile/Marilyn
END:VEVENT
END:VCALENDAR
