BEGIN:VCALENDAR
PRODID:NingEventWidget-v1
VERSION:2.0
METHOD:PUBLISH
BEGIN:VTIMEZONE
TZID:America/Cancun
X-LIC-LOCATION:America/Cancun
BEGIN:DAYLIGHT
TZOFFSETFROM:-0600
TZOFFSETTO:-0500
TZNAME:CDT
DTSTART:19700405T020000
RRULE:FREQ=YEARLY;BYMONTH=4;BYDAY=1SU
END:DAYLIGHT
BEGIN:STANDARD
TZOFFSETFROM:-0500
TZOFFSETTO:-0600
TZNAME:CST
DTSTART:19701025T020000
RRULE:FREQ=YEARLY;BYMONTH=10;BYDAY=-1SU
END:STANDARD
END:VTIMEZONE
BEGIN:VEVENT
UID:2636007:Event:65857
DTSTAMP:20260422T032949Z
SUMMARY:Orlando Tea Party - Independence Day Tea Party
DESCRIPTION:Numerous hot buttons will be hit–all aspects of anti-big
  government pro constitution movement, those opposed to the pending bu
 dget containing not only health care but cap and trade, and especially
  the anti-amnesty movement, since Obamas bills drafted and imminent.\n
 \nWe are a grass roots organization.\n\nWe are not holding an anti-OBa
 ma rally or a political rally for any candidate. No politicians are we
 lcome to speak.\n\nQuestions, call Cheryl at 321-228-5849 or email che
 ryl@otownteaparty.com\n\nAll Rights Reserved Orlando Tea Party, Inc. 2
 009\n\nFor more information visit http://www.fairtaxnation.com/events/
 orlando-tea-party-1
DTSTART;TZID=America/Cancun:20090704T170000
DTEND;TZID=America/Cancun:20090704T200000
CATEGORIES:orlando, tea, party
LOCATION:Orlando Festival Park
WEBSITE:http://otownteaparty.com
URL:http://otownteaparty.com
CONTACT:321-228-5849
ORGANIZER;CN=Cheryl:http://www.fairtaxnation.com/profile/Cheryl215
ATTACH;FMTTYPE="image/jpeg":http://storage.ning.com/topology/rest/1.0/
 file/get/1080588335?profile=original
ATTENDEE;ROLE=REQ-PARTICIPANT;PARTSTAT=ACCEPTED;RSVP=TRUE;CN=Cheryl:ht
 tp://www.fairtaxnation.com/profile/Cheryl215
END:VEVENT
END:VCALENDAR
