BEGIN:VCALENDAR
PRODID:NingEventWidget-v1
VERSION:2.0
METHOD:PUBLISH
BEGIN:VTIMEZONE
TZID:America/Cancun
X-LIC-LOCATION:America/Cancun
BEGIN:DAYLIGHT
TZOFFSETFROM:-0600
TZOFFSETTO:-0500
TZNAME:CDT
DTSTART:19700405T020000
RRULE:FREQ=YEARLY;BYMONTH=4;BYDAY=1SU
END:DAYLIGHT
BEGIN:STANDARD
TZOFFSETFROM:-0500
TZOFFSETTO:-0600
TZNAME:CST
DTSTART:19701025T020000
RRULE:FREQ=YEARLY;BYMONTH=10;BYDAY=-1SU
END:STANDARD
END:VTIMEZONE
BEGIN:VEVENT
UID:2636007:Event:60953
DTSTAMP:20260421T171553Z
SUMMARY:Phil Claypool
DESCRIPTION:Monthly Meeting Tuesday night on Seajay Drive\n\nFor more 
 information visit http://www.fairtaxnation.com/events/phil-claypool
DTSTART;TZID=America/Cancun:20090609T190000
DTEND;TZID=America/Cancun:20090609T203000
CATEGORIES:monthly, meeting
LOCATION:Beef O'Bradys
WEBSITE:
URL:
CONTACT:
ORGANIZER;CN="Phil Claypool":http://www.fairtaxnation.com/profile/Phil
ATTACH;FMTTYPE="image/jpeg":
ATTENDEE;ROLE=REQ-PARTICIPANT;PARTSTAT=ACCEPTED;RSVP=TRUE;CN=Billie:ht
 tp://www.fairtaxnation.com/profile/Billie
ATTENDEE;ROLE=REQ-PARTICIPANT;PARTSTAT=ACCEPTED;RSVP=TRUE;CN="Phil Cla
 ypool":http://www.fairtaxnation.com/profile/Phil
END:VEVENT
END:VCALENDAR
