BEGIN:VCALENDAR
PRODID:NingEventWidget-v1
VERSION:2.0
METHOD:PUBLISH
BEGIN:VTIMEZONE
TZID:America/Cancun
X-LIC-LOCATION:America/Cancun
BEGIN:DAYLIGHT
TZOFFSETFROM:-0600
TZOFFSETTO:-0500
TZNAME:CDT
DTSTART:19700405T020000
RRULE:FREQ=YEARLY;BYMONTH=4;BYDAY=1SU
END:DAYLIGHT
BEGIN:STANDARD
TZOFFSETFROM:-0500
TZOFFSETTO:-0600
TZNAME:CST
DTSTART:19701025T020000
RRULE:FREQ=YEARLY;BYMONTH=10;BYDAY=-1SU
END:STANDARD
END:VTIMEZONE
BEGIN:VEVENT
UID:2636007:Event:26360
DTSTAMP:20260424T134233Z
SUMMARY:Phil Hinson, National Spokesman on Radio Monday, AM
DESCRIPTION:Special heads up notice for Fair Tax Nation Members and gu
 ests.\nPhil Hinson, National Spokesman for FairTax.org, will be interv
 iewed on the popular “Frankly Speaking Radio show” , with Frank Ac
 omb, Monday Morning, March 2nd.\nAt 8:20 AM EST and 7:20 Central Time.
  On WENY 1230 AM in Corning, NY\nTune in on your computer to www.twint
 iersradio.com/weny.html to hear the streaming audio of this show.\nBe 
 sure to listen and hear the latest news direct from the top. Also invi
 te quests and friends to introduce them to the Fair Tax.\nIt is import
 ant to tune in and for all of us to connect to the streaming audio at 
 the link listed. Your action will indicate high interest in the Fair T
 ax program. Let’s have a big turnout of listeners and it could lead 
 to bigger things. (Please see the blog about donating a few minutes ea
 ch week\nhttp://fairtaxnation.ning.com/profiles/blogs/will-you-donate-
 a-few-minutes)\nThis announcement is a special service arranged by Fai
 rTax Nation and FairTax.org\nCome to the site daily and look for these
  announcements\n\nFor more information visit http://www.fairtaxnation.
 com/events/phil-hinson-national-spokesman
DTSTART;TZID=America/Cancun:20090302T081500
DTEND;TZID=America/Cancun:20090302T090000
CATEGORIES:radio, interview
LOCATION:Corning , NY and your computer
WEBSITE:http://www.twintiersradio.com/weny.html
URL:http://www.twintiersradio.com/weny.html
CONTACT:
ORGANIZER:FairTax.org
ATTACH;FMTTYPE="image/jpeg":http://storage.ning.com/topology/rest/1.0/
 file/get/1080577506?profile=original
ATTENDEE;ROLE=REQ-PARTICIPANT;PARTSTAT=ACCEPTED;RSVP=TRUE;CN="Fla Vol"
 :http://www.fairtaxnation.com/profile/StewRusby
END:VEVENT
END:VCALENDAR
