BEGIN:VCALENDAR
PRODID:NingEventWidget-v1
VERSION:2.0
METHOD:PUBLISH
BEGIN:VTIMEZONE
TZID:America/Cancun
X-LIC-LOCATION:America/Cancun
BEGIN:DAYLIGHT
TZOFFSETFROM:-0600
TZOFFSETTO:-0500
TZNAME:CDT
DTSTART:19700405T020000
RRULE:FREQ=YEARLY;BYMONTH=4;BYDAY=1SU
END:DAYLIGHT
BEGIN:STANDARD
TZOFFSETFROM:-0500
TZOFFSETTO:-0600
TZNAME:CST
DTSTART:19701025T020000
RRULE:FREQ=YEARLY;BYMONTH=10;BYDAY=-1SU
END:STANDARD
END:VTIMEZONE
BEGIN:VEVENT
UID:2636007:Event:93365
DTSTAMP:20260422T090123Z
SUMMARY:PORTAGE COUNTY, OH TEA PARTY MEETING
DESCRIPTION:PORTAGE COUNTY TEA PARTY MEETING\n\nOur meeting from last 
 week that was postponed by weather is set for this coming Tuesday, Feb
 ruary 16, 2010. If is very important that all of our members attend th
 is meeting. With the filing deadline for most candidates that want to 
 run for office this year set for next Thursday, February 18th, we need
  as many of you at our meeting on Tuesday as we can get, to sign the r
 equired petitions those candidates need to get on the ballot. This wil
 l be our last chance to get this done and it is critical that we get e
 nough signatures on Tuesday night.\n\n\nIn particular, we have a TEA P
 arty Candidate named Steve Christopher who has agreed to run against M
 ike DeWine for Attorney General and he needs to get 1,000 signatures b
 y Thursday. With your help on Tuesday, our group should be able to giv
 e him 200 or more. It is important that we get him on the ballot so we
  can let the Republicans know that we are not just going to vote for w
 homever they want just by default. We are going recruit and elect cons
 ervative candidates regardless of who either party tries to push on us
 .\n\n\nSo, bring your family and friends to NEOUCOM, at 7:00 PM on Tue
 sday night. The address is 4209 State Route 44 in Rootstown, just abou
 t a mile South of I-76. The parking and conference center are on the s
 outh side of the building. You are also going to meet Dr. Michael Pryc
 e, a potential Independent Candidate for US Senate, Dr. Bing Henderson
  who is taking on Tim Ryan in the 17th District US House race and a ve
 ry interesting candidate for Ohio Secretary of State, Sandy O'Brien. A
 fter the candidates speak, we will also take care of some important TE
 A Party business. We'll look forward to seeing you on Tuesday night at
  7:00 PM.\n\n\nBest Regards,\n\n\nTom Zawistowski\nExecutive Director\
 nPortage County TEA Party\n4682 State Route 43\nKent, OH 44240\n330-47
 4-3878\nwww.portagecountyteaparty.com\n\nFor more information visit ht
 tp://www.fairtaxnation.com/events/portage-county-oh-tea-party
DTSTART;TZID=America/Cancun:20100216T190000
DTEND;TZID=America/Cancun:20100216T210000
CATEGORIES:tea, party, meeting
LOCATION:NEOUCOM
WEBSITE:http://www.portagecountyteaparty.com
URL:http://www.portagecountyteaparty.com
CONTACT:330-474-3878
ORGANIZER:Tom Zawistowski
ATTACH;FMTTYPE="image/jpeg":
ATTENDEE;ROLE=REQ-PARTICIPANT;PARTSTAT=ACCEPTED;RSVP=TRUE;CN=Billie:ht
 tp://www.fairtaxnation.com/profile/Billie
END:VEVENT
END:VCALENDAR
