BEGIN:VCALENDAR
PRODID:NingEventWidget-v1
VERSION:2.0
METHOD:PUBLISH
BEGIN:VTIMEZONE
TZID:America/Cancun
X-LIC-LOCATION:America/Cancun
BEGIN:DAYLIGHT
TZOFFSETFROM:-0600
TZOFFSETTO:-0500
TZNAME:CDT
DTSTART:19700405T020000
RRULE:FREQ=YEARLY;BYMONTH=4;BYDAY=1SU
END:DAYLIGHT
BEGIN:STANDARD
TZOFFSETFROM:-0500
TZOFFSETTO:-0600
TZNAME:CST
DTSTART:19701025T020000
RRULE:FREQ=YEARLY;BYMONTH=10;BYDAY=-1SU
END:STANDARD
END:VTIMEZONE
BEGIN:VEVENT
UID:2636007:Event:91794
DTSTAMP:20260423T024848Z
SUMMARY:Precinct Organizing Best Practices “Train-the-Trainer” Sem
 inar, Knox Co, OH
DESCRIPTION:Learn How YOU Can Make a Difference in 2010, Attend The Pr
 ecinct Organizing Best Practices Seminar\n\nThe Ohio Liberty Council i
 s strongly encouraging folks to attend this important training event b
 eing organized by Peter Wolf (of the Cincinnati 9/12 Project) and Warr
 en Edstrom (of the Knox County 9/12 Project).\n\nWhat: Precinct Organi
 zing Best Practices “Train-the-Trainer” Seminar\n\nWhere: The Knox
  County Memorial Theater, 112 E High St, Mount Vernon, OH 43050\nCost:
  No charge, but donations will be solicited to help cover event costs\
 nWhen: Saturday, January 23, 1PM to 5PM\nWho: Anyone interested in lea
 rning how to make a significant positive impact on the 2010 primaries 
 and general elections in support of conservative, constitutional candi
 dates and issues\n\nPlease RSVP for this event. http://www.ohioliberty
 council.org/?p=1457a\n\n\nQuestions about the event can be directed to
  Warren Edstrom or Peter Wolf.\n\nLocation:\n\n112 E High St\nMt Verno
 n, OH 43050\n\nFor more information visit http://www.fairtaxnation.com
 /events/precinct-organizing-best
DTSTART;TZID=America/Cancun:20100123T130000
DTEND;TZID=America/Cancun:20100123T170000
CATEGORIES:seminar
LOCATION:The Knox County Memorial Theater
WEBSITE:http://campaign.constantcontact.com/render?v=001_7pdtf0NbxOuQ6
 jGifhUWDlMyH_AaGl95XAIfvPxlSZikIzNJW8kJH33s0ms006P0y1F5PLD-FR-FnuPamFL
 j-tORvAam9lSpuDzCin1YM34qNwzH4_jqVCPP7Der2n5aFbo6x0yCgZmWktcDoI4YhW47Z
 NkJ3_EAJxns7gp5JSag7kvDanoTbzbhN9A_BtUOnfzLpmU6AikIenajSwPqg%3D%3D
URL:http://campaign.constantcontact.com/render?v=001_7pdtf0NbxOuQ6jGif
 hUWDlMyH_AaGl95XAIfvPxlSZikIzNJW8kJH33s0ms006P0y1F5PLD-FR-FnuPamFLj-tO
 RvAam9lSpuDzCin1YM34qNwzH4_jqVCPP7Der2n5aFbo6x0yCgZmWktcDoI4YhW47ZNkJ3
 _EAJxns7gp5JSag7kvDanoTbzbhN9A_BtUOnfzLpmU6AikIenajSwPqg%3D%3D
CONTACT:
ORGANIZER:Warren Edstrom or Peter Wolf
ATTACH;FMTTYPE="image/jpeg":
ATTENDEE;ROLE=REQ-PARTICIPANT;PARTSTAT=ACCEPTED;RSVP=TRUE;CN=Billie:ht
 tp://www.fairtaxnation.com/profile/Billie
END:VEVENT
END:VCALENDAR
