BEGIN:VCALENDAR
PRODID:NingEventWidget-v1
VERSION:2.0
METHOD:PUBLISH
BEGIN:VTIMEZONE
TZID:America/Cancun
X-LIC-LOCATION:America/Cancun
BEGIN:DAYLIGHT
TZOFFSETFROM:-0600
TZOFFSETTO:-0500
TZNAME:CDT
DTSTART:19700405T020000
RRULE:FREQ=YEARLY;BYMONTH=4;BYDAY=1SU
END:DAYLIGHT
BEGIN:STANDARD
TZOFFSETFROM:-0500
TZOFFSETTO:-0600
TZNAME:CST
DTSTART:19701025T020000
RRULE:FREQ=YEARLY;BYMONTH=10;BYDAY=-1SU
END:STANDARD
END:VTIMEZONE
BEGIN:VEVENT
UID:2636007:Event:95887
DTSTAMP:20260421T043806Z
SUMMARY:President Obama will be in Strongsville
DESCRIPTION:President Obama will be in Strongsville Monday, March 15, 
 to discuss health care insurance reform at the Walter F. Ehrnfelt Recr
 eation and Senior Center.\n\nThe trip will be President Obama's third 
 in the span of a week to discuss health insurance reform.\n\nThis even
 t is free and open to the public, however, tickets are required. Ticke
 ts will be distributed on a first come, first served basis on Sunday, 
 March 14 at 2:00 p.m. in the Main Lobby of the Walter F. Ehrnfelt Recr
 eation and Senior Center.\n\n**SEE INFORMATION BELOW**\n\nMarch 15, 20
 10\n\nPresident Obama Delivers Remarks on Health Insurance Reform\n\nW
 alter F. Ehrnfelt Recreation and Senior Center\n\nMain Gym\n\n18100 Ro
 yalton Road\n\nStrongsville, Ohio 44136\n\nFor more information visit 
 http://www.fairtaxnation.com/events/president-obama-will-be-in
DTSTART;TZID=America/Cancun:20100315T140000
DTEND;TZID=America/Cancun:20100315T160000
CATEGORIES:townhall
LOCATION:Walter F. Ehrnfelt Recreation and Senior Center
WEBSITE:
URL:
CONTACT:
ORGANIZER:
ATTACH;FMTTYPE="image/jpeg":http://storage.ning.com/topology/rest/1.0/
 file/get/1080596667?profile=original
ATTENDEE;ROLE=REQ-PARTICIPANT;PARTSTAT=ACCEPTED;RSVP=TRUE;CN=Billie:ht
 tp://www.fairtaxnation.com/profile/Billie
END:VEVENT
END:VCALENDAR
