BEGIN:VCALENDAR
PRODID:NingEventWidget-v1
VERSION:2.0
METHOD:PUBLISH
BEGIN:VTIMEZONE
TZID:America/Cancun
X-LIC-LOCATION:America/Cancun
BEGIN:DAYLIGHT
TZOFFSETFROM:-0600
TZOFFSETTO:-0500
TZNAME:CDT
DTSTART:19700405T020000
RRULE:FREQ=YEARLY;BYMONTH=4;BYDAY=1SU
END:DAYLIGHT
BEGIN:STANDARD
TZOFFSETFROM:-0500
TZOFFSETTO:-0600
TZNAME:CST
DTSTART:19701025T020000
RRULE:FREQ=YEARLY;BYMONTH=10;BYDAY=-1SU
END:STANDARD
END:VTIMEZONE
BEGIN:VEVENT
UID:2636007:Event:132835
DTSTAMP:20260425T124820Z
SUMMARY:Public Forum Fair Tax vs Flat Tax
DESCRIPTION:If you are in the Keokuk Area Please join us for this impo
 rtant forum.\nThere will be two start times. First one is at 10 am the
  second begins at 1 pm.\nA presentation to discuss the current system 
 and prposed changes including the VAT, Flat tax, and the Fair Tax.\nFo
 llowed by a question and answer segment.\n\nFor more information visit
  http://www.fairtaxnation.com/events/public-forum-fair-tax-vs-flat
DTSTART;TZID=America/Cancun:20110402T100000
DTEND;TZID=America/Cancun:20110402T110000
CATEGORIES:public, forum
LOCATION:Keokuk Public Library
WEBSITE:http://http:ifts.webs.com
URL:http://http:ifts.webs.com
CONTACT:319 520-8654
ORGANIZER;CN="Richard Gates":http://www.fairtaxnation.com/profile/Rich
 ardGates
ATTACH;FMTTYPE="image/jpeg":http://storage.ning.com/topology/rest/1.0/
 file/get/1080603527?profile=original
ATTENDEE;ROLE=REQ-PARTICIPANT;PARTSTAT=ACCEPTED;RSVP=TRUE;CN="Richard 
 Gates":http://www.fairtaxnation.com/profile/RichardGates
END:VEVENT
END:VCALENDAR
